{"text_format":"1","workbook":"xlsx","n_sheets":26,"sheets":["Sommaire","UT C01","IMP C01","UT C02","IMP C02","UT C03","IMP C03","UT C04","IMP C04","UT C05","IMP C05","UT C06","IMP C06","UT C07","IMP C07","UT C08","IMP C08","UT C09","IMP C09","UT C10","IMP C10","UT C11","IMP C11","Grille","Tableau_Grille","Rapport sur la compatibilité"],"not_rendered":{"charts":0,"images":24,"macros":1,"external_links":0,"defined_names":34,"comments":10,"pivot_tables":0},"unopened":[],"bounds":{"document_bytes":16777216,"sheet_cells":100000,"rows_first":2000,"rows_last":500,"rows_between":2000,"halvings":0,"cell_chars":16384,"cell_head_chars":4096},"cells_cut":0,"cells_raw":0,"read":"whole","date_system":"1900"}

{"sheet":"Sommaire","index":0,"n_rows":0,"n_cols":0,"rows_kept":0,"cut":false,"hidden":false,"merged":[]}

{"sheet":"UT C01","index":1,"n_rows":43,"n_cols":14,"rows_kept":43,"cut":false,"hidden":false,"merged":[[0,13,0,17],[2,12,4,12],[0,1,0,12],[3,1,4,1],[3,2,4,2],[3,3,4,3],[3,0,4,0],[2,11,4,11],[3,4,3,7],[1,2,1,10],[2,2,2,3],[2,4,2,7]]}
[null,"GRILLE d'EVALUATION des RISQUES",null,null,null,null,null,null,null,null,null,null,null,"ZONE JAUNE A REMLIR"]
[null,"LIEU","BATIMENT C",null,null,null,null,null,null,null,null,"Rédacteurs / Classes : "," "]
[null,"Poste / Machine ","C01 - MULTITEC",null,"Nbre de personnes exposées:",null,null,null,null,null," ","Mesures\nDe\nprévention\nexistantes\n","Mesures\nDe\nprévention\nà proposer\n"]
["Dangers\n(la cause)","Situations\ndangereuses (cause + operateur)","Evenement \nDangereux","Dommage                                   \n(lésion, atteinte à\nla santé)\n","Estimation\ndu risque\n",null,null,null,null,null,"Evalution du risque"]
[null,null,null,null,"GRAVITE","Fréquence / Durée d'exposition au danger","Probabilité d'apparition d'un évenement dangereux","Niveau de Probabilité d'apparition du dommage",null,null,"NIVEAUX PRIORITÉ"]
[" "," "," "," ",1,2,2,{"$f":"IF(AND(F6=1,G6=1),1,IF(AND(F6=1,G6=2),2,IF(AND(F6=2,G6=1),3,IF(AND(F6=2,G6=2),4,\"\"\"\"))))","v":4},{"$f":"IF(AND(E6=4,H6=4),1,IF(AND(E6=4,H6=3),1,IF(AND(E6=3,H6=4),1,IF(AND(E6=3,H6=3),1,\"\"))))","v":""},{"$f":"IF(AND(E6=4,H6=2),2,IF(AND(E6=4,H6=1),2,IF(AND(E6=3,H6=2),2,IF(AND(E6=2,H6=2),2,IF(AND(E6=2,H6=3),2,IF(AND(E6=2,H6=4),2,\"\"))))))","v":""},{"$f":"IF(E6=\"\",\"\",IF(I6=1,1,IF(J6=2,2,3)))","v":3}," "," "]
[null,null,null,null,null,null,null,{"$f":"IF(AND(F7=1,G7=1),1,IF(AND(F7=1,G7=2),2,IF(AND(F7=2,G7=1),3,IF(AND(F7=2,G7=2),4,\"\"\"\"))))","v":"\""},{"$f":"IF(AND(E7=4,H7=4),1,IF(AND(E7=4,H7=3),1,IF(AND(E7=3,H7=4),1,IF(AND(E7=3,H7=3),1,\"\"))))","v":""},{"$f":"IF(AND(E7=4,H7=2),2,IF(AND(E7=4,H7=1),2,IF(AND(E7=3,H7=2),2,IF(AND(E7=2,H7=2),2,IF(AND(E7=2,H7=3),2,IF(AND(E7=2,H7=4),2,\"\"))))))","v":""},{"$f":"IF(E7=\"\",\"\",IF(I7=1,1,IF(J7=2,2,3)))","v":""}," "]
[null,null,null,null,null,null,null,"\"","","",""]
[null,null,null,null,null,null,null,"\"","","",""]
[null,null,null,null,null,null,null,"\"","","",""]
[null,null,null,null,null,null,null,"\"","","",""]
[null,null,null,null,null,null,null,"\"","","",""]
[null,null,null,null,null,null,null,"\"","","",""]
[null,null,null,null,null,null,null,"\"","","",""]
[null,null,null,null,null,null,null,"\"","","",""]
[null,null,null,null,null,null,null,"\"","","",""]
[null,null,null,null,null,null,null,"\"","","",""]
[null,null,null,null,null,null,null,"\"","","",""]
[null,null,null,null,null,null,null,"\"","","",""]
[null,null,null,null,null,null,null,"\"","","",""]
[null,null,null,null,null,null,null,"\"","","",""]
[null,null,null,null,null,null,null,"\"","","",""]
[null,null,null,null,null,null,null,"\"","","",""]
[null,null,null,null,null,null,null,"\"","","",""]
[null,null,null,null,null,null,null,"\"","","",""]
[null,null,null,null,null,null,null,"\"","","",""]
[null,null,null,null,null,null,null,"\"","","",""]
[null,null,null,null,null,null,null,"\"","","",""]
[null,null,null,null,null,null,null,"\"","","",""]
[null,null,null,null,null,null,null,"\"","","",""]
[null,null,null,null,null,null,null,"\"","","",""]
[null,null,null,null,null,null,null,"\"","","",""]
[null,null,null,null,null,null,null,"\"","","",""]
[null,null,null,null,null,null,null,"\"","","",""]
[null,null,null,null,null,null,null,"\"","","",""]
[null,null,null,null,null,null,null,"\"","","",""]
[null,null,null,null,null,null,null,"\"","","",""]
[null,null,null,null,null,null,null,"\"","","",""]
[null,null,null,null,null,null,null,"\"","","",""]
[null,null,null,null,null,null,null,"\"","","",""]
[null,null,null,null,null,null,null,"\"","","",""]
[null,null,null,null,null,null,null,"\"","","",""]
[null,null,null,null,null,null,null,"\"","","",""]

{"sheet":"IMP C01","index":2,"n_rows":11,"n_cols":16,"rows_kept":11,"cut":false,"hidden":false,"merged":[[0,1,0,10],[1,2,1,8],[2,2,2,3],[2,4,2,7],[2,9,4,9],[2,10,4,10],[3,0,4,0],[3,1,4,1],[3,2,4,2],[3,3,4,3],[3,4,3,7]]}
[null,"GRILLE d'EVALUATION des RISQUES"]
[null,"LIEU","BATIMENT C",null,null,null,null,null,null,"Rédacteurs / Classes : ",{"$f":"'UT C01'!M2","v":" "}]
[null,"Poste / Machine ","C01 - MULTITEC",null,"Nbre de personnes exposées:",null,null,null,{"$f":"'UT C01'!K3","v":" "},"Mesures\nDe\nprévention\nexistantes\n","Mesures\nDe\nprévention\nà proposer\n"]
["Dangers\n(la cause)","Situations\ndangereuses (cause + operateur)","Evenement \nDangereux","Dommage                                   \n(lésion, atteinte à\nla santé)\n","Estimation\ndu risque\n",null,null,null,"Evalution du risque"]
[null,null,null,null,"GRAVITE","Fréquence / Durée d'exposition au danger","Probabilité d'apparition d'un évenement dangereux","Niveau de Probabilité d'apparition du dommage","NIVEAUX PRIORITÉ"]
[{"$f":"'UT C01'!A6","v":" "},{"$f":"'UT C01'!B6","v":" "},{"$f":"'UT C01'!C6","v":" "},{"$f":"'UT C01'!D6","v":" "},{"$f":"IF(L6=1,\"Faible\",IF(L6=2,\"Moyen\",IF(L6=3,\"Grave\",IF(L6=4,\"Très Grave\",\" \"))))","v":"Faible"},{"$f":"IF(M6=1,\"Rare\",IF(M6=2,\"Fréquent\",\" \"))","v":"Fréquent"},{"$f":"IF(N6=1,\"Faible\",IF(N6=2,\"Elevée\",\" \"))","v":"Elevée"},{"$f":"IF(O6=1,\"Très improbable\",IF(O6=2,\"Improbable\",IF(O6=3,\"Probable\",IF(O6=4,\"Très Probable\",\" \"))))","v":"Très Probable"},{"$f":"P6","v":3}," "," ",{"$f":"'UT C01'!E6","v":1},{"$f":"'UT C01'!F6","v":2},{"$f":"'UT C01'!G6","v":2},{"$f":"'UT C01'!H6","v":4},{"$f":"'UT C01'!K6","v":3}]
[{"$f":"'UT C01'!A7","v":0},{"$f":"'UT C01'!B7","v":0},{"$f":"'UT C01'!C7","v":0},{"$f":"'UT C01'!D7","v":0}," "," "," "," ","",{"$f":"'UT C01'!L7","v":" "},{"$f":"'UT C01'!M7","v":0},{"$f":"'UT C01'!E7","v":0},{"$f":"'UT C01'!F7","v":0},{"$f":"'UT C01'!G7","v":0},{"$f":"'UT C01'!H7","v":"\""},{"$f":"'UT C01'!K7","v":""}]
[{"$f":"'UT C01'!A8","v":0},{"$f":"'UT C01'!B8","v":0},{"$f":"'UT C01'!C8","v":0},{"$f":"'UT C01'!D8","v":0}," "," "," "," ","",{"$f":"'UT C01'!L8","v":0},{"$f":"'UT C01'!M8","v":0},{"$f":"'UT C01'!E8","v":0},{"$f":"'UT C01'!F8","v":0},{"$f":"'UT C01'!G8","v":0},{"$f":"'UT C01'!H8","v":"\""},{"$f":"'UT C01'!K8","v":""}]
[{"$f":"'UT C01'!A9","v":0},{"$f":"'UT C01'!B9","v":0},{"$f":"'UT C01'!C9","v":0},{"$f":"'UT C01'!D9","v":0}," "," "," "," ","",{"$f":"'UT C01'!L9","v":0},{"$f":"'UT C01'!M9","v":0},{"$f":"'UT C01'!E9","v":0},{"$f":"'UT C01'!F9","v":0},{"$f":"'UT C01'!G9","v":0},{"$f":"'UT C01'!H9","v":"\""},{"$f":"'UT C01'!K9","v":""}]
[{"$f":"'UT C01'!A10","v":0},{"$f":"'UT C01'!B10","v":0},{"$f":"'UT C01'!C10","v":0},{"$f":"'UT C01'!D10","v":0}," "," "," "," ","",{"$f":"'UT C01'!L10","v":0},{"$f":"'UT C01'!M10","v":0},{"$f":"'UT C01'!E10","v":0},{"$f":"'UT C01'!F10","v":0},{"$f":"'UT C01'!G10","v":0},{"$f":"'UT C01'!H10","v":"\""},{"$f":"'UT C01'!K10","v":""}]
[{"$f":"'UT C01'!A11","v":0},{"$f":"'UT C01'!B11","v":0},{"$f":"'UT C01'!C11","v":0},{"$f":"'UT C01'!D11","v":0}," "," "," "," ","",{"$f":"'UT C01'!L11","v":0},{"$f":"'UT C01'!M11","v":0},{"$f":"'UT C01'!E10","v":0},{"$f":"'UT C01'!F10","v":0},{"$f":"'UT C01'!G10","v":0},{"$f":"'UT C01'!H10","v":"\""},{"$f":"'UT C01'!K10","v":""}]

{"sheet":"UT C02","index":3,"n_rows":43,"n_cols":14,"rows_kept":43,"cut":false,"hidden":false,"merged":[[2,4,2,7],[2,11,4,11],[2,12,4,12],[0,13,0,17],[3,0,4,0],[3,1,4,1],[3,2,4,2],[3,3,4,3],[3,4,3,7],[0,1,0,12],[1,2,1,10],[2,2,2,3]]}
[null,"GRILLE d'EVALUATION des RISQUES",null,null,null,null,null,null,null,null,null,null,null,"ZONE JAUNE A REMLIR"]
[null,"LIEU","BATIMENT C",null,null,null,null,null,null,null,null,"Rédacteurs / Classes : "," "]
[null,"Poste / Machine ","C02 - PALETTIC",null,"Nbre de personnes exposées:",null,null,null,null,null," ","Mesures\nDe\nprévention\nexistantes\n","Mesures\nDe\nprévention\nà proposer\n"]
["Dangers\n(la cause)","Situations\ndangereuses (cause + operateur)","Evenement \nDangereux","Dommage                                   \n(lésion, atteinte à\nla santé)\n","Estimation\ndu risque\n",null,null,null,null,null,"Evalution du risque"]
[null,null,null,null,"GRAVITE","Fréquence / Durée d'exposition au danger","Probabilité d'apparition d'un évenement dangereux","Niveau de Probabilité d'apparition du dommage",null,null,"NIVEAUX PRIORITÉ"]
[null,null,null,null,null,null,null,{"$f":"IF(AND(F6=1,G6=1),1,IF(AND(F6=1,G6=2),2,IF(AND(F6=2,G6=1),3,IF(AND(F6=2,G6=2),4,\"\"\"\"))))","v":"\""},{"$f":"IF(AND(E6=4,H6=4),1,IF(AND(E6=4,H6=3),1,IF(AND(E6=3,H6=4),1,IF(AND(E6=3,H6=3),1,\"\"))))","v":""},{"$f":"IF(AND(E6=4,H6=2),2,IF(AND(E6=4,H6=1),2,IF(AND(E6=3,H6=2),2,IF(AND(E6=2,H6=2),2,IF(AND(E6=2,H6=3),2,IF(AND(E6=2,H6=4),2,\"\"))))))","v":""},{"$f":"IF(E6=\"\",\"\",IF(I6=1,1,IF(J6=2,2,3)))","v":""}," "," "]
[null,null,null,null,null,null,null,{"$f":"IF(AND(F7=1,G7=1),1,IF(AND(F7=1,G7=2),2,IF(AND(F7=2,G7=1),3,IF(AND(F7=2,G7=2),4,\"\"\"\"))))","v":"\""},"","",""]
[null,null,null,null,null,null,null,"\"","","",""]
[null,null,null,null,null,null,null,"\"","","",""]
[" "," "," "," ",null,null,null,"\"","","",""," "," "," "]
[null,null,null,null,null,null,null,"\"","","",""]
[null,null,null,null,null,null,null,"\"","","",""]
[null,null,null,null,null,null,null,"\"","","",""]
[null,null,null,null,null,null,null,"\"","","",""]
[null,null,null,null,null,null,null,"\"","","",""]
[null,null,null,null,null,null,null,"\"","","",""]
[null,null,null,null,null,null,null,"\"","","",""]
[null,null,null,null,null,null,null,"\"","","",""]
[null,null,null,null,null,null,null,"\"","","",""]
[null,null,null,null,null,null,null,"\"","","",""]
[null,null,null,null,null,null,null,"\"","","",""]
[null,null,null,null,null,null,null,"\"","","",""]
[null,null,null,null,null,null,null,"\"","","",""]
[null,null,null,null,null,null,null,"\"","","",""]
[null,null,null,null,null,null,null,"\"","","",""]
[null,null,null,null,null,null,null,"\"","","",""]
[null,null,null,null,null,null,null,"\"","","",""]
[null,null,null,null,null,null,null,"\"","","",""]
[null,null,null,null,null,null,null,"\"","","",""]
[null,null,null,null,null,null,null,"\"","","",""]
[null,null,null,null,null,null,null,"\"","","",""]
[null,null,null,null,null,null,null,"\"","","",""]
[null,null,null,null,null,null,null,"\"","","",""]
[null,null,null,null,null,null,null,"\"","","",""]
[null,null,null,null,null,null,null,"\"","","",""]
[null,null,null,null,null,null,null,"\"","","",""]
[null,null,null,null,null,null,null,"\"","","",""]
[null,null,null,null,null,null,null,"\"","","",""]
[null,null,null,null,null,null,null,"\"","","",""]
[null,null,null,null,null,null,null,"\"","","",""]
[null,null,null,null,null,null,null,"\"","","",""]
[null,null,null,null,null,null,null,"\"","","",""]
[null,null,null,null,null,null,null,"\"","","",""]

{"sheet":"IMP C02","index":4,"n_rows":11,"n_cols":16,"rows_kept":11,"cut":false,"hidden":false,"merged":[[3,0,4,0],[3,1,4,1],[3,2,4,2],[3,3,4,3],[3,4,3,7],[0,1,0,10],[1,2,1,8],[2,2,2,3],[2,4,2,7],[2,9,4,9],[2,10,4,10]]}
[null,"GRILLE d'EVALUATION des RISQUES"]
[null,"LIEU","BATIMENT C",null,null,null,null,null,null,"Rédacteurs / Classes : ",{"$f":"'UT C02'!M2","v":" "}]
[null,"Poste / Machine ","C02- PALETTICC",null,"Nbre de personnes exposées:",null,null,null,{"$f":"'UT C02'!K3","v":" "},"Mesures\nDe\nprévention\nexistantes\n","Mesures\nDe\nprévention\nà proposer\n"]
["Dangers\n(la cause)","Situations\ndangereuses (cause + operateur)","Evenement \nDangereux","Dommage                                   \n(lésion, atteinte à\nla santé)\n","Estimation\ndu risque\n",null,null,null,"Evalution du risque"]
[null,null,null,null,"GRAVITE","Fréquence / Durée d'exposition au danger","Probabilité d'apparition d'un évenement dangereux","Niveau de Probabilité d'apparition du dommage","NIVEAUX PRIORITÉ"]
[{"$f":"'UT C02'!A6","v":0},{"$f":"'UT C02'!B6","v":0},{"$f":"'UT C02'!C6","v":0},{"$f":"'UT C02'!D6","v":0},{"$f":"IF(L6=1,\"Faible\",IF(L6=2,\"Moyen\",IF(L6=3,\"Grave\",IF(L6=4,\"Très Grave\",\" \"))))","v":" "},{"$f":"IF(M6=1,\"Rare\",IF(M6=2,\"Fréquent\",\" \"))","v":" "},{"$f":"IF(N6=1,\"Faible\",IF(N6=2,\"Elevée\",\" \"))","v":" "},{"$f":"IF(O6=1,\"Très improbable\",IF(O6=2,\"Improbable\",IF(O6=3,\"Probable\",IF(O6=4,\"Très Probable\",\" \"))))","v":" "},{"$f":"P6","v":""},{"$f":"'UT C02'!L6","v":" "},{"$f":"'UT C02'!M6","v":" "},{"$f":"'UT C02'!E6","v":0},{"$f":"'UT C02'!F6","v":0},{"$f":"'UT C02'!G6","v":0},{"$f":"'UT C02'!H6","v":"\""},{"$f":"'UT C02'!K6","v":""}]
[{"$f":"'UT C02'!A7","v":0},{"$f":"'UT C02'!B7","v":0},{"$f":"'UT C02'!C7","v":0},{"$f":"'UT C02'!D7","v":0}," "," "," "," ","",{"$f":"'UT C02'!L7","v":0},{"$f":"'UT C02'!M7","v":0},{"$f":"'UT C02'!E7","v":0},{"$f":"'UT C02'!F7","v":0},{"$f":"'UT C02'!G7","v":0},{"$f":"'UT C02'!H7","v":"\""},{"$f":"'UT C02'!K7","v":""}]
[{"$f":"'UT C02'!A8","v":0},{"$f":"'UT C02'!B8","v":0},{"$f":"'UT C02'!C8","v":0},{"$f":"'UT C02'!D8","v":0}," "," "," "," ","",{"$f":"'UT C02'!L8","v":0},{"$f":"'UT C02'!M8","v":0},{"$f":"'UT C02'!E8","v":0},{"$f":"'UT C02'!F8","v":0},{"$f":"'UT C02'!G8","v":0},{"$f":"'UT C02'!H8","v":"\""},{"$f":"'UT C02'!K8","v":""}]
[{"$f":"'UT C02'!A9","v":0},{"$f":"'UT C02'!B9","v":0},{"$f":"'UT C02'!C9","v":0},{"$f":"'UT C02'!D9","v":0}," "," "," "," ","",{"$f":"'UT C02'!L9","v":0},{"$f":"'UT C02'!M9","v":0},{"$f":"'UT C02'!E9","v":0},{"$f":"'UT C02'!F9","v":0},{"$f":"'UT C02'!G9","v":0},{"$f":"'UT C02'!H9","v":"\""},{"$f":"'UT C02'!K9","v":""}]
[{"$f":"'UT C02'!A10","v":" "},{"$f":"'UT C02'!B10","v":" "},{"$f":"'UT C02'!C10","v":" "},{"$f":"'UT C02'!D10","v":" "}," "," "," "," ","",{"$f":"'UT C02'!L10","v":" "},{"$f":"'UT C02'!M10","v":" "},{"$f":"'UT C02'!E10","v":0},{"$f":"'UT C02'!F10","v":0},{"$f":"'UT C02'!G10","v":0},{"$f":"'UT C02'!H10","v":"\""},{"$f":"'UT C02'!K10","v":""}]
[{"$f":"'UT C02'!A11","v":0},{"$f":"'UT C02'!B11","v":0},{"$f":"'UT C02'!C11","v":0},{"$f":"'UT C02'!D11","v":0}," "," "," "," ","",{"$f":"'UT C02'!L11","v":0},{"$f":"'UT C02'!M11","v":0},{"$f":"'UT C02'!E11","v":0},{"$f":"'UT C02'!F11","v":0},{"$f":"'UT C02'!G11","v":0},{"$f":"'UT C02'!H11","v":"\""},{"$f":"'UT C02'!K11","v":""}]

{"sheet":"UT C03","index":5,"n_rows":43,"n_cols":14,"rows_kept":43,"cut":false,"hidden":false,"merged":[[0,13,0,17],[0,1,0,12],[1,2,1,10],[2,2,2,3],[2,4,2,7],[2,11,4,11],[2,12,4,12],[3,0,4,0],[3,1,4,1],[3,2,4,2],[3,3,4,3],[3,4,3,7]]}
[null,"GRILLE d'EVALUATION des RISQUES",null,null,null,null,null,null,null,null,null,null,null,"ZONE JAUNE A REMLIR"]
[null,"LIEU","BATIMENT C",null,null,null,null,null,null,null,null,"Rédacteurs / Classes : "," "]
[null,"Poste / Machine ","C03 - CERMEX 1",null,"Nbre de personnes exposées:",null,null,null,null,null,null,"Mesures\nDe\nprévention\nexistantes\n","Mesures\nDe\nprévention\nà proposer\n"]
["Dangers\n(la cause)","Situations\ndangereuses (cause + operateur)","Evenement \nDangereux","Dommage                                   \n(lésion, atteinte à\nla santé)\n","Estimation\ndu risque\n",null,null,null,null,null,"Evalution du risque"]
[null,null,null,null,"GRAVITE","Fréquence / Durée d'exposition au danger","Probabilité d'apparition d'un évenement dangereux","Niveau de Probabilité d'apparition du dommage",null,null,"NIVEAUX PRIORITÉ"]
[null,null,null,null,null,null,null,{"$f":"IF(AND(F6=1,G6=1),1,IF(AND(F6=1,G6=2),2,IF(AND(F6=2,G6=1),3,IF(AND(F6=2,G6=2),4,\"\"\"\"))))","v":"\""},{"$f":"IF(AND(E6=4,H6=4),1,IF(AND(E6=4,H6=3),1,IF(AND(E6=3,H6=4),1,IF(AND(E6=3,H6=3),1,\"\"))))","v":""},{"$f":"IF(AND(E6=4,H6=2),2,IF(AND(E6=4,H6=1),2,IF(AND(E6=3,H6=2),2,IF(AND(E6=2,H6=2),2,IF(AND(E6=2,H6=3),2,IF(AND(E6=2,H6=4),2,\"\"))))))","v":""},{"$f":"IF(E6=\"\",\"\",IF(I6=1,1,IF(J6=2,2,3)))","v":""}," "," "]
[null,null,null,null,null,null,null,{"$f":"IF(AND(F7=1,G7=1),1,IF(AND(F7=1,G7=2),2,IF(AND(F7=2,G7=1),3,IF(AND(F7=2,G7=2),4,\"\"\"\"))))","v":"\""},"","",""]
[null,null,null,null,null,null,null,"\"","","",""]
[null,null,null,null,null,null,null,"\"","","",""]
[" "," "," "," ",null,null,null,"\"","","",""," "," "," "]
[null,null,null,null,null,null,null,"\"","","",""]
[null,null,null,null,null,null,null,"\"","","",""]
[null,null,null,null,null,null,null,"\"","","",""]
[null,null,null,null,null,null,null,"\"","","",""]
[null,null,null,null,null,null,null,"\"","","",""]
[null,null,null,null,null,null,null,"\"","","",""]
[null,null,null,null,null,null,null,"\"","","",""]
[null,null,null,null,null,null,null,"\"","","",""]
[null,null,null,null,null,null,null,"\"","","",""]
[null,null,null,null,null,null,null,"\"","","",""]
[null,null,null,null,null,null,null,"\"","","",""]
[null,null,null,null,null,null,null,"\"","","",""]
[null,null,null,null,null,null,null,"\"","","",""]
[null,null,null,null,null,null,null,"\"","","",""]
[null,null,null,null,null,null,null,"\"","","",""]
[null,null,null,null,null,null,null,"\"","","",""]
[null,null,null,null,null,null,null,"\"","","",""]
[null,null,null,null,null,null,null,"\"","","",""]
[null,null,null,null,null,null,null,"\"","","",""]
[null,null,null,null,null,null,null,"\"","","",""]
[null,null,null,null,null,null,null,"\"","","",""]
[null,null,null,null,null,null,null,"\"","","",""]
[null,null,null,null,null,null,null,"\"","","",""]
[null,null,null,null,null,null,null,"\"","","",""]
[null,null,null,null,null,null,null,"\"","","",""]
[null,null,null,null,null,null,null,"\"","","",""]
[null,null,null,null,null,null,null,"\"","","",""]
[null,null,null,null,null,null,null,"\"","","",""]
[null,null,null,null,null,null,null,"\"","","",""]
[null,null,null,null,null,null,null,"\"","","",""]
[null,null,null,null,null,null,null,"\"","","",""]
[null,null,null,null,null,null,null,"\"","","",""]
[null,null,null,null,null,null,null,"\"","","",""]

{"sheet":"IMP C03","index":6,"n_rows":11,"n_cols":16,"rows_kept":11,"cut":false,"hidden":false,"merged":[[0,1,0,10],[1,2,1,8],[2,2,2,3],[2,4,2,7],[2,9,4,9],[2,10,4,10],[3,0,4,0],[3,1,4,1],[3,2,4,2],[3,3,4,3],[3,4,3,7]]}
[null,"GRILLE d'EVALUATION des RISQUES"]
[null,"LIEU","BATIMENT C",null,null,null,null,null,null,"Rédacteurs / Classes : ",{"$f":"'UT C03'!M2","v":" "}]
[null,"Poste / Machine ","C03- CERMEX ",null,"Nbre de personnes exposées:",null,null,null,{"$f":"'UT C03'!$K$3","v":0},"Mesures\nDe\nprévention\nexistantes\n","Mesures\nDe\nprévention\nà proposer\n"]
["Dangers\n(la cause)","Situations\ndangereuses (cause + operateur)","Evenement \nDangereux","Dommage                                   \n(lésion, atteinte à\nla santé)\n","Estimation\ndu risque\n",null,null,null,"Evalution du risque"]
[null,null,null,null,"GRAVITE","Fréquence / Durée d'exposition au danger","Probabilité d'apparition d'un évenement dangereux","Niveau de Probabilité d'apparition du dommage","NIVEAUX PRIORITÉ"]
[{"$f":"'UT C03'!A6","v":0},{"$f":"'UT C03'!B6","v":0},{"$f":"'UT C03'!C6","v":0},{"$f":"'UT C03'!D6","v":0},{"$f":"IF(L6=1,\"Faible\",IF(L6=2,\"Moyen\",IF(L6=3,\"Grave\",IF(L6=4,\"Très Grave\",\" \"))))","v":" "},{"$f":"IF(M6=1,\"Rare\",IF(M6=2,\"Fréquent\",\" \"))","v":" "},{"$f":"IF(N6=1,\"Faible\",IF(N6=2,\"Elevée\",\" \"))","v":" "},{"$f":"IF(O6=1,\"Très improbable\",IF(O6=2,\"Improbable\",IF(O6=3,\"Probable\",IF(O6=4,\"Très Probable\",\" \"))))","v":" "},{"$f":"P6","v":""},{"$f":"'UT C03'!$L$6","v":" "},{"$f":"'UT C03'!$L$6","v":" "},{"$f":"'UT C03'!E6","v":0},{"$f":"'UT C03'!F6","v":0},{"$f":"'UT C03'!G6","v":0},{"$f":"'UT C03'!H6","v":"\""},{"$f":"'UT C03'!K6","v":""}]
[{"$f":"'UT C03'!A7","v":0},{"$f":"'UT C03'!B7","v":0},{"$f":"'UT C03'!C7","v":0},{"$f":"'UT C03'!D7","v":0}," "," "," "," ","",{"$f":"'UT C03'!L7","v":0},{"$f":"'UT C03'!M7","v":0},{"$f":"'UT C03'!E7","v":0},{"$f":"'UT C03'!F7","v":0},{"$f":"'UT C03'!G7","v":0},{"$f":"'UT C03'!H7","v":"\""},{"$f":"'UT C03'!K7","v":""}]
[{"$f":"'UT C03'!A8","v":0},{"$f":"'UT C03'!B8","v":0},{"$f":"'UT C03'!C8","v":0},{"$f":"'UT C03'!D8","v":0}," "," "," "," ","",{"$f":"'UT C03'!L8","v":0},{"$f":"'UT C03'!M8","v":0},{"$f":"'UT C03'!E8","v":0},{"$f":"'UT C03'!F8","v":0},{"$f":"'UT C03'!G8","v":0},{"$f":"'UT C03'!H8","v":"\""},{"$f":"'UT C03'!K8","v":""}]
[{"$f":"'UT C03'!A9","v":0},{"$f":"'UT C03'!B9","v":0},{"$f":"'UT C03'!C9","v":0},{"$f":"'UT C03'!D9","v":0}," "," "," "," ","",{"$f":"'UT C03'!L9","v":0},{"$f":"'UT C03'!M9","v":0},{"$f":"'UT C03'!E9","v":0},{"$f":"'UT C03'!F9","v":0},{"$f":"'UT C03'!G9","v":0},{"$f":"'UT C03'!H9","v":"\""},{"$f":"'UT C03'!K9","v":""}]
[{"$f":"'UT C03'!A10","v":" "},{"$f":"'UT C03'!B10","v":" "},{"$f":"'UT C03'!C10","v":" "},{"$f":"'UT C03'!D10","v":" "}," "," "," "," ","",{"$f":"'UT C03'!L10","v":" "},{"$f":"'UT C03'!M10","v":" "},{"$f":"'UT C03'!E10","v":0},{"$f":"'UT C03'!F10","v":0},{"$f":"'UT C03'!G10","v":0},{"$f":"'UT C03'!H10","v":"\""},{"$f":"'UT C03'!K10","v":""}]
[{"$f":"'UT C03'!A11","v":0},{"$f":"'UT C03'!B11","v":0},{"$f":"'UT C03'!C11","v":0},{"$f":"'UT C03'!D11","v":0}," "," "," "," ","",{"$f":"'UT C03'!L11","v":0},{"$f":"'UT C03'!M11","v":0},{"$f":"'UT C03'!E11","v":0},{"$f":"'UT C03'!F11","v":0},{"$f":"'UT C03'!G11","v":0},{"$f":"'UT C03'!H11","v":"\""},{"$f":"'UT C03'!K11","v":""}]

{"sheet":"UT C04","index":7,"n_rows":43,"n_cols":14,"rows_kept":43,"cut":false,"hidden":false,"merged":[[0,13,0,17],[0,1,0,12],[1,2,1,10],[2,2,2,3],[2,4,2,7],[2,11,4,11],[2,12,4,12],[3,0,4,0],[3,1,4,1],[3,2,4,2],[3,3,4,3],[3,4,3,7]]}
[null,"GRILLE d'EVALUATION des RISQUES",null,null,null,null,null,null,null,null,null,null,null,"ZONE JAUNE A REMLIR"]
[null,"LIEU","BATIMENT C",null,null,null,null,null,null,null,null,"Rédacteurs / Classes : "," "]
[null,"Poste / Machine ","C04 - CERMEX 2",null,"Nbre de personnes exposées:",null,null,null,null,null," ","Mesures\nDe\nprévention\nexistantes\n","Mesures\nDe\nprévention\nà proposer\n"]
["Dangers\n(la cause)","Situations\ndangereuses (cause + operateur)","Evenement \nDangereux","Dommage                                   \n(lésion, atteinte à\nla santé)\n","Estimation\ndu risque\n",null,null,null,null,null,"Evalution du risque"]
[null,null,null,null,"GRAVITE","Fréquence / Durée d'exposition au danger","Probabilité d'apparition d'un évenement dangereux","Niveau de Probabilité d'apparition du dommage",null,null,"NIVEAUX PRIORITÉ"]
[" "," "," "," ",null,null,null,{"$f":"IF(AND(F6=1,G6=1),1,IF(AND(F6=1,G6=2),2,IF(AND(F6=2,G6=1),3,IF(AND(F6=2,G6=2),4,\"\"\"\"))))","v":"\""},{"$f":"IF(AND(E6=4,H6=4),1,IF(AND(E6=4,H6=3),1,IF(AND(E6=3,H6=4),1,IF(AND(E6=3,H6=3),1,\"\"))))","v":""},{"$f":"IF(AND(E6=4,H6=2),2,IF(AND(E6=4,H6=1),2,IF(AND(E6=3,H6=2),2,IF(AND(E6=2,H6=2),2,IF(AND(E6=2,H6=3),2,IF(AND(E6=2,H6=4),2,\"\"))))))","v":""},{"$f":"IF(E6=\"\",\"\",IF(I6=1,1,IF(J6=2,2,3)))","v":""}]
[null,null,null,null,null,null,null,{"$f":"IF(AND(F7=1,G7=1),1,IF(AND(F7=1,G7=2),2,IF(AND(F7=2,G7=1),3,IF(AND(F7=2,G7=2),4,\"\"\"\"))))","v":"\""},"","",""]
[null,null,null,null,null,null,null,"\"","","",""]
[null,null,null,null,null,null,null,"\"","","",""]
[" "," "," "," ",null,null,null,"\"","","",""," "," "," "]
[null,null,null,null,null,null,null,"\"","","",""]
[null,null,null,null,null,null,null,"\"","","",""]
[null,null,null,null,null,null,null,"\"","","",""]
[null,null,null,null,null,null,null,"\"","","",""]
[null,null,null,null,null,null,null,"\"","","",""]
[null,null,null,null,null,null,null,"\"","","",""]
[null,null,null,null,null,null,null,"\"","","",""]
[null,null,null,null,null,null,null,"\"","","",""]
[null,null,null,null,null,null,null,"\"","","",""]
[null,null,null,null,null,null,null,"\"","","",""]
[null,null,null,null,null,null,null,"\"","","",""]
[null,null,null,null,null,null,null,"\"","","",""]
[null,null,null,null,null,null,null,"\"","","",""]
[null,null,null,null,null,null,null,"\"","","",""]
[null,null,null,null,null,null,null,"\"","","",""]
[null,null,null,null,null,null,null,"\"","","",""]
[null,null,null,null,null,null,null,"\"","","",""]
[null,null,null,null,null,null,null,"\"","","",""]
[null,null,null,null,null,null,null,"\"","","",""]
[null,null,null,null,null,null,null,"\"","","",""]
[null,null,null,null,null,null,null,"\"","","",""]
[null,null,null,null,null,null,null,"\"","","",""]
[null,null,null,null,null,null,null,"\"","","",""]
[null,null,null,null,null,null,null,"\"","","",""]
[null,null,null,null,null,null,null,"\"","","",""]
[null,null,null,null,null,null,null,"\"","","",""]
[null,null,null,null,null,null,null,"\"","","",""]
[null,null,null,null,null,null,null,"\"","","",""]
[null,null,null,null,null,null,null,"\"","","",""]
[null,null,null,null,null,null,null,"\"","","",""]
[null,null,null,null,null,null,null,"\"","","",""]
[null,null,null,null,null,null,null,"\"","","",""]
[null,null,null,null,null,null,null,"\"","","",""]

{"sheet":"IMP C04","index":8,"n_rows":11,"n_cols":16,"rows_kept":11,"cut":false,"hidden":false,"merged":[[0,1,0,10],[1,2,1,8],[2,2,2,3],[2,4,2,7],[2,9,4,9],[2,10,4,10],[3,0,4,0],[3,1,4,1],[3,2,4,2],[3,3,4,3],[3,4,3,7]]}
[null,"GRILLE d'EVALUATION des RISQUES"]
[null,"LIEU","BATIMENT C",null,null,null,null,null,null,"Rédacteurs / Classes : ",{"$f":"'UT C04'!M2","v":" "}]
[null,"Poste / Machine ","C04- CERMEX ",null,"Nbre de personnes exposées:",null,null,null,{"$f":"'UT C04'!K3","v":" "},"Mesures\nDe\nprévention\nexistantes\n","Mesures\nDe\nprévention\nà proposer\n"]
["Dangers\n(la cause)","Situations\ndangereuses (cause + operateur)","Evenement \nDangereux","Dommage                                   \n(lésion, atteinte à\nla santé)\n","Estimation\ndu risque\n",null,null,null,"Evalution du risque"]
[null,null,null,null,"GRAVITE","Fréquence / Durée d'exposition au danger","Probabilité d'apparition d'un évenement dangereux","Niveau de Probabilité d'apparition du dommage","NIVEAUX PRIORITÉ"]
[{"$f":"'UT C04'!A6","v":" "},{"$f":"'UT C04'!B6","v":" "},{"$f":"'UT C04'!C6","v":" "},{"$f":"'UT C04'!D6","v":" "},{"$f":"IF(L6=1,\"Faible\",IF(L6=2,\"Moyen\",IF(L6=3,\"Grave\",IF(L6=4,\"Très Grave\",\" \"))))","v":" "},{"$f":"IF(M6=1,\"Rare\",IF(M6=2,\"Fréquent\",\" \"))","v":" "},{"$f":"IF(N6=1,\"Faible\",IF(N6=2,\"Elevée\",\" \"))","v":" "},{"$f":"IF(O6=1,\"Très improbable\",IF(O6=2,\"Improbable\",IF(O6=3,\"Probable\",IF(O6=4,\"Très Probable\",\" \"))))","v":" "},{"$f":"P6","v":""},{"$f":"'UT C04'!L6","v":0},{"$f":"'UT C04'!M6","v":0},{"$f":"'UT C04'!E6","v":0},{"$f":"'UT C04'!F6","v":0},{"$f":"'UT C04'!G6","v":0},{"$f":"'UT C04'!H6","v":"\""},{"$f":"'UT C04'!K6","v":""}]
[{"$f":"'UT C04'!A7","v":0},{"$f":"'UT C04'!B7","v":0},{"$f":"'UT C04'!C7","v":0},{"$f":"'UT C04'!D7","v":0}," "," "," "," ","",{"$f":"'UT C04'!L7","v":0},{"$f":"'UT C04'!M7","v":0},{"$f":"'UT C04'!E7","v":0},{"$f":"'UT C04'!F7","v":0},{"$f":"'UT C04'!G7","v":0},{"$f":"'UT C04'!H7","v":"\""},{"$f":"'UT C04'!K7","v":""}]
[{"$f":"'UT C04'!A8","v":0},{"$f":"'UT C04'!B8","v":0},{"$f":"'UT C04'!C8","v":0},{"$f":"'UT C04'!D8","v":0}," "," "," "," ","",{"$f":"'UT C04'!L8","v":0},{"$f":"'UT C04'!M8","v":0},{"$f":"'UT C04'!E8","v":0},{"$f":"'UT C04'!F8","v":0},{"$f":"'UT C04'!G8","v":0},{"$f":"'UT C04'!H8","v":"\""},{"$f":"'UT C04'!K8","v":""}]
[{"$f":"'UT C04'!A9","v":0},{"$f":"'UT C04'!B9","v":0},{"$f":"'UT C04'!C9","v":0},{"$f":"'UT C04'!D9","v":0}," "," "," "," ","",{"$f":"'UT C04'!L9","v":0},{"$f":"'UT C04'!M9","v":0},{"$f":"'UT C04'!E9","v":0},{"$f":"'UT C04'!F9","v":0},{"$f":"'UT C04'!G9","v":0},{"$f":"'UT C04'!H9","v":"\""},{"$f":"'UT C04'!K9","v":""}]
[{"$f":"'UT C04'!A10","v":" "},{"$f":"'UT C04'!B10","v":" "},{"$f":"'UT C04'!C10","v":" "},{"$f":"'UT C04'!D10","v":" "}," "," "," "," ","",{"$f":"'UT C04'!L10","v":" "},{"$f":"'UT C04'!M10","v":" "},{"$f":"'UT C04'!E10","v":0},{"$f":"'UT C04'!F10","v":0},{"$f":"'UT C04'!G10","v":0},{"$f":"'UT C04'!H10","v":"\""},{"$f":"'UT C04'!K10","v":""}]
[{"$f":"'UT C04'!A11","v":0},{"$f":"'UT C04'!B11","v":0},{"$f":"'UT C04'!C11","v":0},{"$f":"'UT C04'!D11","v":0}," "," "," "," ","",{"$f":"'UT C04'!L11","v":0},{"$f":"'UT C04'!M11","v":0},{"$f":"'UT C04'!E11","v":0},{"$f":"'UT C04'!F11","v":0},{"$f":"'UT C04'!G11","v":0},{"$f":"'UT C04'!H11","v":"\""},{"$f":"'UT C04'!K11","v":""}]

{"sheet":"UT C05","index":9,"n_rows":43,"n_cols":14,"rows_kept":43,"cut":false,"hidden":false,"merged":[[0,13,0,17],[0,1,0,12],[1,2,1,10],[2,2,2,3],[2,4,2,7],[2,11,4,11],[2,12,4,12],[3,0,4,0],[3,1,4,1],[3,2,4,2],[3,3,4,3],[3,4,3,7]]}
[null,"GRILLE d'EVALUATION des RISQUES",null,null,null,null,null,null,null,null,null,null,null,"ZONE JAUNE A REMLIR"]
[null,"LIEU","BATIMENT C",null,null,null,null,null,null,null,null,"Rédacteurs / Classes : "]
[null,"Poste / Machine ","C05 - ECOLPAP",null,"Nbre de personnes exposées:",null,null,null,null,null,null,"Mesures\nDe\nprévention\nexistantes\n","Mesures\nDe\nprévention\nà proposer\n"]
["Dangers\n(la cause)","Situations\ndangereuses (cause + operateur)","Evenement \nDangereux","Dommage                                   \n(lésion, atteinte à\nla santé)\n","Estimation\ndu risque\n",null,null,null,null,null,"Evalution du risque"]
[null,null,null,null,"GRAVITE","Fréquence / Durée d'exposition au danger","Probabilité d'apparition d'un évenement dangereux","Niveau de Probabilité d'apparition du dommage",null,null,"NIVEAUX PRIORITÉ"]
[" "," "," "," ",null,null,null,{"$f":"IF(AND(F6=1,G6=1),1,IF(AND(F6=1,G6=2),2,IF(AND(F6=2,G6=1),3,IF(AND(F6=2,G6=2),4,\"\"\"\"))))","v":"\""},{"$f":"IF(AND(E6=4,H6=4),1,IF(AND(E6=4,H6=3),1,IF(AND(E6=3,H6=4),1,IF(AND(E6=3,H6=3),1,\"\"))))","v":""},{"$f":"IF(AND(E6=4,H6=2),2,IF(AND(E6=4,H6=1),2,IF(AND(E6=3,H6=2),2,IF(AND(E6=2,H6=2),2,IF(AND(E6=2,H6=3),2,IF(AND(E6=2,H6=4),2,\"\"))))))","v":""},{"$f":"IF(E6=\"\",\"\",IF(I6=1,1,IF(J6=2,2,3)))","v":""}]
[null,null,null,null,null,null,null,{"$f":"IF(AND(F7=1,G7=1),1,IF(AND(F7=1,G7=2),2,IF(AND(F7=2,G7=1),3,IF(AND(F7=2,G7=2),4,\"\"\"\"))))","v":"\""},"","",""]
[null,null,null,null,null,null,null,"\"","","",""]
[null,null,null,null,null,null,null,"\"","","",""]
[" "," "," "," ",null,null,null,"\"","","",""," "," "," "]
[null,null,null,null,null,null,null,"\"","","",""]
[null,null,null,null,null,null,null,"\"","","",""]
[null,null,null,null,null,null,null,"\"","","",""]
[null,null,null,null,null,null,null,"\"","","",""]
[null,null,null,null,null,null,null,"\"","","",""]
[null,null,null,null,null,null,null,"\"","","",""]
[null,null,null,null,null,null,null,"\"","","",""]
[null,null,null,null,null,null,null,"\"","","",""]
[null,null,null,null,null,null,null,"\"","","",""]
[null,null,null,null,null,null,null,"\"","","",""]
[null,null,null,null,null,null,null,"\"","","",""]
[null,null,null,null,null,null,null,"\"","","",""]
[null,null,null,null,null,null,null,"\"","","",""]
[null,null,null,null,null,null,null,"\"","","",""]
[null,null,null,null,null,null,null,"\"","","",""]
[null,null,null,null,null,null,null,"\"","","",""]
[null,null,null,null,null,null,null,"\"","","",""]
[null,null,null,null,null,null,null,"\"","","",""]
[null,null,null,null,null,null,null,"\"","","",""]
[null,null,null,null,null,null,null,"\"","","",""]
[null,null,null,null,null,null,null,"\"","","",""]
[null,null,null,null,null,null,null,"\"","","",""]
[null,null,null,null,null,null,null,"\"","","",""]
[null,null,null,null,null,null,null,"\"","","",""]
[null,null,null,null,null,null,null,"\"","","",""]
[null,null,null,null,null,null,null,"\"","","",""]
[null,null,null,null,null,null,null,"\"","","",""]
[null,null,null,null,null,null,null,"\"","","",""]
[null,null,null,null,null,null,null,"\"","","",""]
[null,null,null,null,null,null,null,"\"","","",""]
[null,null,null,null,null,null,null,"\"","","",""]
[null,null,null,null,null,null,null,"\"","","",""]
[null,null,null,null,null,null,null,"\"","","",""]

{"sheet":"IMP C05","index":10,"n_rows":11,"n_cols":16,"rows_kept":11,"cut":false,"hidden":false,"merged":[[0,1,0,10],[1,2,1,8],[2,2,2,3],[2,4,2,7],[2,9,4,9],[2,10,4,10],[3,0,4,0],[3,1,4,1],[3,2,4,2],[3,3,4,3],[3,4,3,7]]}
[null,"GRILLE d'EVALUATION des RISQUES"]
[null,"LIEU","BATIMENT C",null,null,null,null,null,null,"Rédacteurs / Classes : ",{"$f":"'UT C05'!$M$2","v":"00:00:00"}]
[null,"Poste / Machine ","C05- ECOLPAP",null,"Nbre de personnes exposées:",null,null,null,{"$f":"'UT C05'!$K$3","v":0},"Mesures\nDe\nprévention\nexistantes\n","Mesures\nDe\nprévention\nà proposer\n"]
["Dangers\n(la cause)","Situations\ndangereuses (cause + operateur)","Evenement \nDangereux","Dommage                                   \n(lésion, atteinte à\nla santé)\n","Estimation\ndu risque\n",null,null,null,"Evalution du risque"]
[null,null,null,null,"GRAVITE","Fréquence / Durée d'exposition au danger","Probabilité d'apparition d'un évenement dangereux","Niveau de Probabilité d'apparition du dommage","NIVEAUX PRIORITÉ"]
[{"$f":"'UT C05'!$A$6","v":" "},{"$f":"'UT C05'!B6","v":" "},{"$f":"'UT C05'!C6","v":" "},{"$f":"'UT C05'!D6","v":" "},{"$f":"IF(L6=1,\"Faible\",IF(L6=2,\"Moyen\",IF(L6=3,\"Grave\",IF(L6=4,\"Très Grave\",\" \"))))","v":" "},{"$f":"IF(M6=1,\"Rare\",IF(M6=2,\"Fréquent\",\" \"))","v":" "},{"$f":"IF(N6=1,\"Faible\",IF(N6=2,\"Elevée\",\" \"))","v":" "},{"$f":"IF(O6=1,\"Très improbable\",IF(O6=2,\"Improbable\",IF(O6=3,\"Probable\",IF(O6=4,\"Très Probable\",\" \"))))","v":" "},{"$f":"P6","v":""},{"$f":"'UT C05'!$L$6","v":0},{"$f":"'UT C05'!M6","v":0},{"$f":"'UT C05'!$E$6","v":0},{"$f":"'UT C05'!F6","v":0},{"$f":"'UT C05'!G6","v":0},{"$f":"'UT C05'!H6","v":"\""},{"$f":"'UT C05'!K6","v":""}]
[{"$f":"'UT C05'!A7","v":0},{"$f":"'UT C05'!B7","v":0},{"$f":"'UT C05'!C7","v":0},{"$f":"'UT C05'!D7","v":0}," "," "," "," ","",{"$f":"'UT C05'!L7","v":0},{"$f":"'UT C05'!M7","v":0},{"$f":"'UT C05'!E7","v":0},{"$f":"'UT C05'!F7","v":0},{"$f":"'UT C05'!G7","v":0},{"$f":"'UT C05'!H7","v":"\""},{"$f":"'UT C05'!K7","v":""}]
[{"$f":"'UT C05'!A8","v":0},{"$f":"'UT C05'!B8","v":0},{"$f":"'UT C05'!C8","v":0},{"$f":"'UT C05'!D8","v":0}," "," "," "," ","",{"$f":"'UT C05'!L8","v":0},{"$f":"'UT C05'!M8","v":0},{"$f":"'UT C05'!E8","v":0},{"$f":"'UT C05'!F8","v":0},{"$f":"'UT C05'!G8","v":0},{"$f":"'UT C05'!H8","v":"\""},{"$f":"'UT C05'!K8","v":""}]
[{"$f":"'UT C05'!A9","v":0},{"$f":"'UT C05'!B9","v":0},{"$f":"'UT C05'!C9","v":0},{"$f":"'UT C05'!D9","v":0}," "," "," "," ","",{"$f":"'UT C05'!L9","v":0},{"$f":"'UT C05'!M9","v":0},{"$f":"'UT C05'!E9","v":0},{"$f":"'UT C05'!F9","v":0},{"$f":"'UT C05'!G9","v":0},{"$f":"'UT C05'!H9","v":"\""},{"$f":"'UT C05'!K9","v":""}]
[{"$f":"'UT C05'!A10","v":" "},{"$f":"'UT C05'!B10","v":" "},{"$f":"'UT C05'!C10","v":" "},{"$f":"'UT C05'!D10","v":" "}," "," "," "," ","",{"$f":"'UT C05'!L10","v":" "},{"$f":"'UT C05'!M10","v":" "},{"$f":"'UT C05'!E10","v":0},{"$f":"'UT C05'!F10","v":0},{"$f":"'UT C05'!G10","v":0},{"$f":"'UT C05'!H10","v":"\""},{"$f":"'UT C05'!K10","v":""}]
[{"$f":"'UT C05'!A11","v":0},{"$f":"'UT C05'!B11","v":0},{"$f":"'UT C05'!C11","v":0},{"$f":"'UT C05'!D11","v":0}," "," "," "," ","",{"$f":"'UT C05'!L11","v":0},{"$f":"'UT C05'!M11","v":0},{"$f":"'UT C05'!E11","v":0},{"$f":"'UT C05'!F11","v":0},{"$f":"'UT C05'!G11","v":0},{"$f":"'UT C05'!H11","v":"\""},{"$f":"'UT C05'!K11","v":""}]

{"sheet":"UT C06","index":11,"n_rows":43,"n_cols":14,"rows_kept":43,"cut":false,"hidden":false,"merged":[[0,13,0,17],[0,1,0,12],[1,2,1,10],[2,2,2,3],[2,4,2,7],[2,11,4,11],[2,12,4,12],[3,0,4,0],[3,1,4,1],[3,2,4,2],[3,3,4,3],[3,4,3,7]]}
[null,"GRILLE d'EVALUATION des RISQUES",null,null,null,null,null,null,null,null,null,null,null,"ZONE JAUNE A REMLIR"]
[null,"LIEU","BATIMENT C",null,null,null,null,null,null,null,null,"Rédacteurs / Classes : "]
[null,"Poste / Machine ","C06 - POLYPROD",null,"Nbre de personnes exposées:",null,null,null,null,null,null,"Mesures\nDe\nprévention\nexistantes\n","Mesures\nDe\nprévention\nà proposer\n"]
["Dangers\n(la cause)","Situations\ndangereuses (cause + operateur)","Evenement \nDangereux","Dommage                                   \n(lésion, atteinte à\nla santé)\n","Estimation\ndu risque\n",null,null,null,null,null,"Evalution du risque"]
[null,null,null,null,"GRAVITE","Fréquence / Durée d'exposition au danger","Probabilité d'apparition d'un évenement dangereux","Niveau de Probabilité d'apparition du dommage",null,null,"NIVEAUX PRIORITÉ"]
[" "," "," "," ",null,null,null,{"$f":"IF(AND(F6=1,G6=1),1,IF(AND(F6=1,G6=2),2,IF(AND(F6=2,G6=1),3,IF(AND(F6=2,G6=2),4,\"\"\"\"))))","v":"\""},{"$f":"IF(AND(E6=4,H6=4),1,IF(AND(E6=4,H6=3),1,IF(AND(E6=3,H6=4),1,IF(AND(E6=3,H6=3),1,\"\"))))","v":""},{"$f":"IF(AND(E6=4,H6=2),2,IF(AND(E6=4,H6=1),2,IF(AND(E6=3,H6=2),2,IF(AND(E6=2,H6=2),2,IF(AND(E6=2,H6=3),2,IF(AND(E6=2,H6=4),2,\"\"))))))","v":""},{"$f":"IF(E6=\"\",\"\",IF(I6=1,1,IF(J6=2,2,3)))","v":""}," "," "]
[null,null,null,null,null,null,null,{"$f":"IF(AND(F7=1,G7=1),1,IF(AND(F7=1,G7=2),2,IF(AND(F7=2,G7=1),3,IF(AND(F7=2,G7=2),4,\"\"\"\"))))","v":"\""},"","",""]
[null,null,null,null,null,null,null,"\"","","",""]
[null,null,null,null,null,null,null,"\"","","",""]
[" "," "," "," ",null,null,null,"\"","","",""," "," "," "]
[null,null,null,null,null,null,null,"\"","","",""]
[" "," "," "," ",null,null,null,"\"","","",""," "," "]
[null,null,null,null,null,null,null,"\"","","",""]
[null,null,null,null,null,null,null,"\"","","",""]
[null,null,null,null,null,null,null,"\"","","",""]
[null,null,null,null,null,null,null,"\"","","",""]
[null,null,null,null,null,null,null,"\"","","",""]
[null,null,null,null,null,null,null,"\"","","",""]
[null,null,null,null,null,null,null,"\"","","",""]
[null,null,null,null,null,null,null,"\"","","",""]
[" "," "," "," ",null,null,null,"\"","","",""," "," "]
[null,null,null,null,null,null,null,"\"","","",""]
[null,null,null,null,null,null,null,"\"","","",""]
[null,null,null,null,null,null,null,"\"","","",""]
[null,null,null,null,null,null,null,"\"","","",""]
[null,null,null,null,null,null,null,"\"","","",""]
[null,null,null,null,null,null,null,"\"","","",""]
[null,null,null,null,null,null,null,"\"","","",""]
[null,null,null,null,null,null,null,"\"","","",""]
[null,null,null,null,null,null,null,"\"","","",""]
[null,null,null,null,null,null,null,"\"","","",""]
[null,null,null,null,null,null,null,"\"","","",""]
[null,null,null,null,null,null,null,"\"","","",""]
[null,null,null,null,null,null,null,"\"","","",""]
[null,null,null,null,null,null,null,"\"","","",""]
[null,null,null,null,null,null,null,"\"","","",""]
[null,null,null,null,null,null,null,"\"","","",""]
[null,null,null,null,null,null,null,"\"","","",""]
[null,null,null,null,null,null,null,"\"","","",""]
[null,null,null,null,null,null,null,"\"","","",""]
[null,null,null,null,null,null,null,"\"","","",""]
[null,null,null,null,null,null,null,"\"","","",""]
[null,null,null,null,null,null,null,"\"","","",""]

{"sheet":"IMP C06","index":12,"n_rows":11,"n_cols":16,"rows_kept":11,"cut":false,"hidden":false,"merged":[[0,1,0,10],[1,2,1,8],[2,2,2,3],[2,4,2,7],[2,9,4,9],[2,10,4,10],[3,0,4,0],[3,1,4,1],[3,2,4,2],[3,3,4,3],[3,4,3,7]]}
[null,"GRILLE d'EVALUATION des RISQUES"]
[null,"LIEU","BATIMENT C",null,null,null,null,null,null,"Rédacteurs / Classes : ",{"$f":"'UT C06'!$M$2","v":"00:00:00"}]
[null,"Poste / Machine ","C06 - POLYPROD",null,"Nbre de personnes exposées:",null,null,null,{"$f":"'UT C06'!$K$3","v":0},"Mesures\nDe\nprévention\nexistantes\n","Mesures\nDe\nprévention\nà proposer\n"]
["Dangers\n(la cause)","Situations\ndangereuses (cause + operateur)","Evenement \nDangereux","Dommage                                   \n(lésion, atteinte à\nla santé)\n","Estimation\ndu risque\n",null,null,null,"Evalution du risque"]
[null,null,null,null,"GRAVITE","Fréquence / Durée d'exposition au danger","Probabilité d'apparition d'un évenement dangereux","Niveau de Probabilité d'apparition du dommage","NIVEAUX PRIORITÉ"]
[{"$f":"'UT C06'!A21","v":" "},{"$f":"'UT C06'!B21","v":" "},{"$f":"'UT C06'!C21","v":" "},{"$f":"'UT C06'!D21","v":" "},{"$f":"IF(L6=1,\"Faible\",IF(L6=2,\"Moyen\",IF(L6=3,\"Grave\",IF(L6=4,\"Très Grave\",\" \"))))","v":" "},{"$f":"IF(M6=1,\"Rare\",IF(M6=2,\"Fréquent\",\" \"))","v":" "},{"$f":"IF(N6=1,\"Faible\",IF(N6=2,\"Elevée\",\" \"))","v":" "},{"$f":"IF(O6=1,\"Très improbable\",IF(O6=2,\"Improbable\",IF(O6=3,\"Probable\",IF(O6=4,\"Très Probable\",\" \"))))","v":" "},{"$f":"P6","v":""},{"$f":"'UT C06'!L12","v":" "},{"$f":"'UT C06'!M12","v":" "},{"$f":"'UT C06'!E21","v":0},{"$f":"'UT C06'!F21","v":0},{"$f":"'UT C06'!G21","v":0},{"$f":"'UT C06'!H21","v":"\""},{"$f":"'UT C06'!K21","v":""}]
[{"$f":"'UT C06'!A22","v":0},{"$f":"'UT C06'!B22","v":0},{"$f":"'UT C06'!C22","v":0},{"$f":"'UT C06'!D22","v":0}," "," "," "," ","",{"$f":"'UT C06'!L13","v":0},{"$f":"'UT C06'!M13","v":0},{"$f":"'UT C06'!E22","v":0},{"$f":"'UT C06'!F22","v":0},{"$f":"'UT C06'!G22","v":0},{"$f":"'UT C06'!H22","v":"\""},{"$f":"'UT C06'!K22","v":""}]
[{"$f":"'UT C06'!A23","v":0},{"$f":"'UT C06'!B23","v":0},{"$f":"'UT C06'!C23","v":0},{"$f":"'UT C06'!D23","v":0}," "," "," "," ","",{"$f":"'UT C06'!L14","v":0},{"$f":"'UT C06'!M14","v":0},{"$f":"'UT C06'!E23","v":0},{"$f":"'UT C06'!F23","v":0},{"$f":"'UT C06'!G23","v":0},{"$f":"'UT C06'!H23","v":"\""},{"$f":"'UT C06'!K23","v":""}]
[{"$f":"'UT C06'!A24","v":0},{"$f":"'UT C06'!B24","v":0},{"$f":"'UT C06'!C24","v":0},{"$f":"'UT C06'!D24","v":0}," "," "," "," ","",{"$f":"'UT C06'!L15","v":0},{"$f":"'UT C06'!M15","v":0},{"$f":"'UT C06'!E24","v":0},{"$f":"'UT C06'!F24","v":0},{"$f":"'UT C06'!G24","v":0},{"$f":"'UT C06'!H24","v":"\""},{"$f":"'UT C06'!K24","v":""}]
[{"$f":"'UT C06'!A25","v":0},{"$f":"'UT C06'!B25","v":0},{"$f":"'UT C06'!C25","v":0},{"$f":"'UT C06'!D25","v":0}," "," "," "," ","",{"$f":"'UT C06'!L16","v":0},{"$f":"'UT C06'!M16","v":0},{"$f":"'UT C06'!E25","v":0},{"$f":"'UT C06'!F25","v":0},{"$f":"'UT C06'!G25","v":0},{"$f":"'UT C06'!H25","v":"\""},{"$f":"'UT C06'!K25","v":""}]
[{"$f":"'UT C06'!A26","v":0},{"$f":"'UT C06'!B26","v":0},{"$f":"'UT C06'!C26","v":0},{"$f":"'UT C06'!D26","v":0}," "," "," "," ","",{"$f":"'UT C06'!L17","v":0},{"$f":"'UT C06'!M17","v":0},{"$f":"'UT C06'!E26","v":0},{"$f":"'UT C06'!F26","v":0},{"$f":"'UT C06'!G26","v":0},{"$f":"'UT C06'!H26","v":"\""},{"$f":"'UT C06'!K26","v":""}]

{"sheet":"UT C07","index":13,"n_rows":43,"n_cols":14,"rows_kept":43,"cut":false,"hidden":false,"merged":[[0,13,0,17],[0,1,0,12],[1,2,1,10],[2,2,2,3],[2,4,2,7],[2,11,4,11],[2,12,4,12],[3,0,4,0],[3,1,4,1],[3,2,4,2],[3,3,4,3],[3,4,3,7]]}
[null,"GRILLE d'EVALUATION des RISQUES",null,null,null,null,null,null,null,null,null,null,null,"ZONE JAUNE A REMLIR"]
[null,"LIEU","BATIMENT C",null,null,null,null,null,null,null,null,"Rédacteurs / Classes : "," "]
[null,"Poste / Machine ","C07 - REGROUPEMENT",null,"Nbre de personnes exposées:",null,null,null,null,null," ","Mesures\nDe\nprévention\nexistantes\n","Mesures\nDe\nprévention\nà proposer\n"]
["Dangers\n(la cause)","Situations\ndangereuses (cause + operateur)","Evenement \nDangereux","Dommage                                   \n(lésion, atteinte à\nla santé)\n","Estimation\ndu risque\n",null,null,null,null,null,"Evalution du risque"]
[null,null,null,null,"GRAVITE","Fréquence / Durée d'exposition au danger","Probabilité d'apparition d'un évenement dangereux","Niveau de Probabilité d'apparition du dommage",null,null,"NIVEAUX PRIORITÉ"]
[" "," "," "," ",null,null,null,{"$f":"IF(AND(F6=1,G6=1),1,IF(AND(F6=1,G6=2),2,IF(AND(F6=2,G6=1),3,IF(AND(F6=2,G6=2),4,\"\"\"\"))))","v":"\""},{"$f":"IF(AND(E6=4,H6=4),1,IF(AND(E6=4,H6=3),1,IF(AND(E6=3,H6=4),1,IF(AND(E6=3,H6=3),1,\"\"))))","v":""},{"$f":"IF(AND(E6=4,H6=2),2,IF(AND(E6=4,H6=1),2,IF(AND(E6=3,H6=2),2,IF(AND(E6=2,H6=2),2,IF(AND(E6=2,H6=3),2,IF(AND(E6=2,H6=4),2,\"\"))))))","v":""},{"$f":"IF(E6=\"\",\"\",IF(I6=1,1,IF(J6=2,2,3)))","v":""}," "," "]
[null,null,null,null,null,null,null,{"$f":"IF(AND(F7=1,G7=1),1,IF(AND(F7=1,G7=2),2,IF(AND(F7=2,G7=1),3,IF(AND(F7=2,G7=2),4,\"\"\"\"))))","v":"\""},"","",""]
[null,null,null,null,null,null,null,"\"","","",""]
[null,null,null,null,null,null,null,"\"","","",""]
[" "," "," "," ",null,null,null,"\"","","",""," "," "," "]
[null,null,null,null,null,null,null,"\"","","",""]
[" "," "," "," ",null,null,null,"\"","","",""," "," "]
[" "," "," "," ",null,null,null,"\"","","",""," "," "]
[null,null,null,null,null,null,null,"\"","","",""]
[null,null,null,null,null,null,null,"\"","","",""]
[null,null,null,null,null,null,null,"\"","","",""]
[null,null,null,null,null,null,null,"\"","","",""]
[null,null,null,null,null,null,null,"\"","","",""]
[null,null,null,null,null,null,null,"\"","","",""]
[null,null,null,null,null,null,null,"\"","","",""]
[null,null,null,null,null,null,null,"\"","","",""]
[null,null,null,null,null,null,null,"\"","","",""]
[null,null,null,null,null,null,null,"\"","","",""]
[null,null,null,null,null,null,null,"\"","","",""]
[null,null,null,null,null,null,null,"\"","","",""]
[null,null,null,null,null,null,null,"\"","","",""]
[null,null,null,null,null,null,null,"\"","","",""]
[null,null,null,null,null,null,null,"\"","","",""]
[null,null,null,null,null,null,null,"\"","","",""]
[null,null,null,null,null,null,null,"\"","","",""]
[null,null,null,null,null,null,null,"\"","","",""]
[null,null,null,null,null,null,null,"\"","","",""]
[null,null,null,null,null,null,null,"\"","","",""]
[null,null,null,null,null,null,null,"\"","","",""]
[null,null,null,null,null,null,null,"\"","","",""]
[null,null,null,null,null,null,null,"\"","","",""]
[null,null,null,null,null,null,null,"\"","","",""]
[null,null,null,null,null,null,null,"\"","","",""]
[null,null,null,null,null,null,null,"\"","","",""]
[null,null,null,null,null,null,null,"\"","","",""]
[null,null,null,null,null,null,null,"\"","","",""]
[null,null,null,null,null,null,null,"\"","","",""]
[null,null,null,null,null,null,null,"\"","","",""]

{"sheet":"IMP C07","index":14,"n_rows":11,"n_cols":16,"rows_kept":11,"cut":false,"hidden":false,"merged":[[0,1,0,10],[1,2,1,8],[2,2,2,3],[2,4,2,7],[2,9,4,9],[2,10,4,10],[3,0,4,0],[3,1,4,1],[3,2,4,2],[3,3,4,3],[3,4,3,7]]}
[null,"GRILLE d'EVALUATION des RISQUES"]
[null,"LIEU","BATIMENT C",null,null,null,null,null,null,"Rédacteurs / Classes : ",{"$f":"'UT C07'!M2","v":" "}]
[null,"Poste / Machine ","C07- REGROUPEMENT",null,"Nbre de personnes exposées:",null,null,null,{"$f":"'UT C07'!K3","v":" "},"Mesures\nDe\nprévention\nexistantes\n","Mesures\nDe\nprévention\nà proposer\n"]
["Dangers\n(la cause)","Situations\ndangereuses (cause + operateur)","Evenement \nDangereux","Dommage                                   \n(lésion, atteinte à\nla santé)\n","Estimation\ndu risque\n",null,null,null,"Evalution du risque"]
[null,null,null,null,"GRAVITE","Fréquence / Durée d'exposition au danger","Probabilité d'apparition d'un évenement dangereux","Niveau de Probabilité d'apparition du dommage","NIVEAUX PRIORITÉ"]
[{"$f":"'UT C07'!A12","v":" "},{"$f":"'UT C07'!B12","v":" "},{"$f":"'UT C07'!C12","v":" "},{"$f":"'UT C07'!D12","v":" "},{"$f":"IF(L6=1,\"Faible\",IF(L6=2,\"Moyen\",IF(L6=3,\"Grave\",IF(L6=4,\"Très Grave\",\" \"))))","v":" "},{"$f":"IF(M6=1,\"Rare\",IF(M6=2,\"Fréquent\",\" \"))","v":" "},{"$f":"IF(N6=1,\"Faible\",IF(N6=2,\"Elevée\",\" \"))","v":" "},{"$f":"IF(O6=1,\"Très improbable\",IF(O6=2,\"Improbable\",IF(O6=3,\"Probable\",IF(O6=4,\"Très Probable\",\" \"))))","v":" "},{"$f":"P6","v":""},{"$f":"'UT C07'!L12","v":" "},{"$f":"'UT C07'!M12","v":" "},{"$f":"'UT C07'!E12","v":0},{"$f":"'UT C07'!F12","v":0},{"$f":"'UT C07'!G12","v":0},{"$f":"'UT C07'!H12","v":"\""},{"$f":"'UT C07'!K12","v":""}]
[{"$f":"'UT C07'!A13","v":" "},{"$f":"'UT C07'!B13","v":" "},{"$f":"'UT C07'!C13","v":" "},{"$f":"'UT C07'!D13","v":" "}," "," "," "," ","",{"$f":"'UT C07'!L13","v":" "},{"$f":"'UT C07'!M13","v":" "},{"$f":"'UT C07'!E13","v":0},{"$f":"'UT C07'!F13","v":0},{"$f":"'UT C07'!G13","v":0},{"$f":"'UT C07'!H13","v":"\""},{"$f":"'UT C07'!K13","v":""}]
[{"$f":"'UT C07'!A14","v":0},{"$f":"'UT C07'!B14","v":0},{"$f":"'UT C07'!C14","v":0},{"$f":"'UT C07'!D14","v":0}," "," "," "," ","",{"$f":"'UT C07'!L14","v":0},{"$f":"'UT C07'!M14","v":0},{"$f":"'UT C07'!E14","v":0},{"$f":"'UT C07'!F14","v":0},{"$f":"'UT C07'!G14","v":0},{"$f":"'UT C07'!H14","v":"\""},{"$f":"'UT C07'!K14","v":""}]
[{"$f":"'UT C07'!A15","v":0},{"$f":"'UT C07'!B15","v":0},{"$f":"'UT C07'!C15","v":0},{"$f":"'UT C07'!D15","v":0}," "," "," "," ","",{"$f":"'UT C07'!L15","v":0},{"$f":"'UT C07'!M15","v":0},{"$f":"'UT C07'!E15","v":0},{"$f":"'UT C07'!F15","v":0},{"$f":"'UT C07'!G15","v":0},{"$f":"'UT C07'!H15","v":"\""},{"$f":"'UT C07'!K15","v":""}]
[{"$f":"'UT C07'!A16","v":0},{"$f":"'UT C07'!B16","v":0},{"$f":"'UT C07'!C16","v":0},{"$f":"'UT C07'!D16","v":0}," "," "," "," ","",{"$f":"'UT C07'!L16","v":0},{"$f":"'UT C07'!M16","v":0},{"$f":"'UT C07'!E16","v":0},{"$f":"'UT C07'!F16","v":0},{"$f":"'UT C07'!G16","v":0},{"$f":"'UT C07'!H16","v":"\""},{"$f":"'UT C07'!K16","v":""}]
[{"$f":"'UT C07'!A17","v":0},{"$f":"'UT C07'!B17","v":0},{"$f":"'UT C07'!C17","v":0},{"$f":"'UT C07'!D17","v":0}," "," "," "," ","",{"$f":"'UT C07'!L17","v":0},{"$f":"'UT C07'!M17","v":0},{"$f":"'UT C07'!E17","v":0},{"$f":"'UT C07'!F17","v":0},{"$f":"'UT C07'!G17","v":0},{"$f":"'UT C07'!H17","v":"\""},{"$f":"'UT C07'!K17","v":""}]

{"sheet":"UT C08","index":15,"n_rows":43,"n_cols":14,"rows_kept":43,"cut":false,"hidden":false,"merged":[[0,13,0,17],[0,1,0,12],[1,2,1,10],[2,2,2,3],[2,4,2,7],[2,11,4,11],[2,12,4,12],[3,0,4,0],[3,1,4,1],[3,2,4,2],[3,3,4,3],[3,4,3,7]]}
[null,"GRILLE d'EVALUATION des RISQUES",null,null,null,null,null,null,null,null,null,null,null,"ZONE JAUNE A REMLIR"]
[null,"LIEU","BATIMENT C",null,null,null,null,null,null,null,null,"Rédacteurs / Classes : "]
[null,"Poste / Machine ","C08 - BRIQUETTIC",null,"Nbre de personnes exposées:",null,null,null,null,null,null,"Mesures\nDe\nprévention\nexistantes\n","Mesures\nDe\nprévention\nà proposer\n"]
["Dangers\n(la cause)","Situations\ndangereuses (cause + operateur)","Evenement \nDangereux","Dommage                                   \n(lésion, atteinte à\nla santé)\n","Estimation\ndu risque\n",null,null,null,null,null,"Evalution du risque"]
[null,null,null,null,"GRAVITE","Fréquence / Durée d'exposition au danger","Probabilité d'apparition d'un évenement dangereux","Niveau de Probabilité d'apparition du dommage",null,null,"NIVEAUX PRIORITÉ"]
[null,null,null,null,null,null,null,{"$f":"IF(AND(F6=1,G6=1),1,IF(AND(F6=1,G6=2),2,IF(AND(F6=2,G6=1),3,IF(AND(F6=2,G6=2),4,\"\"\"\"))))","v":"\""},{"$f":"IF(AND(E6=4,H6=4),1,IF(AND(E6=4,H6=3),1,IF(AND(E6=3,H6=4),1,IF(AND(E6=3,H6=3),1,\"\"))))","v":""},{"$f":"IF(AND(E6=4,H6=2),2,IF(AND(E6=4,H6=1),2,IF(AND(E6=3,H6=2),2,IF(AND(E6=2,H6=2),2,IF(AND(E6=2,H6=3),2,IF(AND(E6=2,H6=4),2,\"\"))))))","v":""},{"$f":"IF(E6=\"\",\"\",IF(I6=1,1,IF(J6=2,2,3)))","v":""}]
[null,null,null,null,null,null,null,{"$f":"IF(AND(F7=1,G7=1),1,IF(AND(F7=1,G7=2),2,IF(AND(F7=2,G7=1),3,IF(AND(F7=2,G7=2),4,\"\"\"\"))))","v":"\""},"","",""]
[null,null,null,null,null,null,null,"\"","","",""]
[null,null,null,null,null,null,null,"\"","","",""]
[" "," "," "," ",null,null,null,"\"","","","",null,null," "]
[null,null,null,null,null,null,null,"\"","","",""]
[null,null,null,null,null,null,null,"\"","","",""]
[null,null,null,null,null,null,null,"\"","","",""]
[null,null,null,null,null,null,null,"\"","","",""]
[null,null,null,null,null,null,null,"\"","","",""]
[null,null,null,null,null,null,null,"\"","","",""]
[null,null,null,null,null,null,null,"\"","","",""]
[null,null,null,null,null,null,null,"\"","","",""]
[null,null,null,null,null,null,null,"\"","","",""]
[null,null,null,null,null,null,null,"\"","","",""]
[null,null,null,null,null,null,null,"\"","","",""]
[null,null,null,null,null,null,null,"\"","","",""]
[null,null,null,null,null,null,null,"\"","","",""]
[null,null,null,null,null,null,null,"\"","","",""]
[null,null,null,null,null,null,null,"\"","","",""]
[null,null,null,null,null,null,null,"\"","","",""]
[null,null,null,null,null,null,null,"\"","","",""]
[null,null,null,null,null,null,null,"\"","","",""]
[null,null,null,null,null,null,null,"\"","","",""]
[null,null,null,null,null,null,null,"\"","","",""]
[null,null,null,null,null,null,null,"\"","","",""]
[null,null,null,null,null,null,null,"\"","","",""]
[null,null,null,null,null,null,null,"\"","","",""]
[null,null,null,null,null,null,null,"\"","","",""]
[null,null,null,null,null,null,null,"\"","","",""]
[null,null,null,null,null,null,null,"\"","","",""]
[null,null,null,null,null,null,null,"\"","","",""]
[null,null,null,null,null,null,null,"\"","","",""]
[null,null,null,null,null,null,null,"\"","","",""]
[null,null,null,null,null,null,null,"\"","","",""]
[null,null,null,null,null,null,null,"\"","","",""]
[null,null,null,null,null,null,null,"\"","","",""]
[null,null,null,null,null,null,null,"\"","","",""]

{"sheet":"IMP C08","index":16,"n_rows":11,"n_cols":16,"rows_kept":11,"cut":false,"hidden":false,"merged":[[0,1,0,10],[1,2,1,8],[2,2,2,3],[2,4,2,7],[2,9,4,9],[2,10,4,10],[3,0,4,0],[3,1,4,1],[3,2,4,2],[3,3,4,3],[3,4,3,7]]}
[null,"GRILLE d'EVALUATION des RISQUES"]
[null,"LIEU","BATIMENT C",null,null,null,null,null,null,"Rédacteurs / Classes : ",{"$f":"'UT C07'!M2","v":" "}]
[null,"Poste / Machine ","C08- BRIQUETTIC",null,"Nbre de personnes exposées:",null,null,null,{"$f":"'UT C07'!K3","v":" "},"Mesures\nDe\nprévention\nexistantes\n","Mesures\nDe\nprévention\nà proposer\n"]
["Dangers\n(la cause)","Situations\ndangereuses (cause + operateur)","Evenement \nDangereux","Dommage                                   \n(lésion, atteinte à\nla santé)\n","Estimation\ndu risque\n",null,null,null,"Evalution du risque"]
[null,null,null,null,"GRAVITE","Fréquence / Durée d'exposition au danger","Probabilité d'apparition d'un évenement dangereux","Niveau de Probabilité d'apparition du dommage","NIVEAUX PRIORITÉ"]
[{"$f":"'UT C08'!A32","v":0},{"$f":"'UT C08'!B32","v":0},{"$f":"'UT C08'!C32","v":0},{"$f":"'UT C08'!D32","v":0},{"$f":"IF(L6=1,\"Faible\",IF(L6=2,\"Moyen\",IF(L6=3,\"Grave\",IF(L6=4,\"Très Grave\",\" \"))))","v":" "},{"$f":"IF(M6=1,\"Rare\",IF(M6=2,\"Fréquent\",\" \"))","v":" "},{"$f":"IF(N6=1,\"Faible\",IF(N6=2,\"Elevée\",\" \"))","v":" "},{"$f":"IF(O6=1,\"Très improbable\",IF(O6=2,\"Improbable\",IF(O6=3,\"Probable\",IF(O6=4,\"Très Probable\",\" \"))))","v":" "},{"$f":"P6","v":""},{"$f":"'UT C08'!L32","v":0},{"$f":"'UT C08'!M32","v":0},{"$f":"'UT C07'!E12","v":0},{"$f":"'UT C07'!F12","v":0},{"$f":"'UT C07'!G12","v":0},{"$f":"'UT C07'!H12","v":"\""},{"$f":"'UT C07'!K12","v":""}]
[{"$f":"'UT C08'!A33","v":0},{"$f":"'UT C08'!B33","v":0},{"$f":"'UT C08'!C33","v":0},{"$f":"'UT C08'!D33","v":0}," "," "," "," ","",{"$f":"'UT C08'!L33","v":0},{"$f":"'UT C08'!M33","v":0},{"$f":"'UT C07'!E13","v":0},{"$f":"'UT C07'!F13","v":0},{"$f":"'UT C07'!G13","v":0},{"$f":"'UT C07'!H13","v":"\""},{"$f":"'UT C07'!K13","v":""}]
[{"$f":"'UT C08'!A34","v":0},{"$f":"'UT C08'!B34","v":0},{"$f":"'UT C08'!C34","v":0},{"$f":"'UT C08'!D34","v":0}," "," "," "," ","",{"$f":"'UT C08'!L34","v":0},{"$f":"'UT C08'!M34","v":0},{"$f":"'UT C07'!E14","v":0},{"$f":"'UT C07'!F14","v":0},{"$f":"'UT C07'!G14","v":0},{"$f":"'UT C07'!H14","v":"\""},{"$f":"'UT C07'!K14","v":""}]
[{"$f":"'UT C08'!A35","v":0},{"$f":"'UT C08'!B35","v":0},{"$f":"'UT C08'!C35","v":0},{"$f":"'UT C08'!D35","v":0}," "," "," "," ","",{"$f":"'UT C08'!L35","v":0},{"$f":"'UT C08'!M35","v":0},{"$f":"'UT C07'!E15","v":0},{"$f":"'UT C07'!F15","v":0},{"$f":"'UT C07'!G15","v":0},{"$f":"'UT C07'!H15","v":"\""},{"$f":"'UT C07'!K15","v":""}]
[{"$f":"'UT C08'!A36","v":0},{"$f":"'UT C08'!B36","v":0},{"$f":"'UT C08'!C36","v":0},{"$f":"'UT C08'!D36","v":0}," "," "," "," ","",{"$f":"'UT C08'!L36","v":0},{"$f":"'UT C08'!M36","v":0},{"$f":"'UT C07'!E16","v":0},{"$f":"'UT C07'!F16","v":0},{"$f":"'UT C07'!G16","v":0},{"$f":"'UT C07'!H16","v":"\""},{"$f":"'UT C07'!K16","v":""}]
[{"$f":"'UT C08'!A37","v":0},{"$f":"'UT C08'!B37","v":0},{"$f":"'UT C08'!C37","v":0},{"$f":"'UT C08'!D37","v":0}," "," "," "," ","",{"$f":"'UT C08'!L37","v":0},{"$f":"'UT C08'!M37","v":0},{"$f":"'UT C07'!E17","v":0},{"$f":"'UT C07'!F17","v":0},{"$f":"'UT C07'!G17","v":0},{"$f":"'UT C07'!H17","v":"\""},{"$f":"'UT C07'!K17","v":""}]

{"sheet":"UT C09","index":17,"n_rows":43,"n_cols":14,"rows_kept":43,"cut":false,"hidden":false,"merged":[[0,13,0,17],[0,1,0,12],[1,2,1,10],[2,2,2,3],[2,4,2,7],[2,11,4,11],[2,12,4,12],[3,0,4,0],[3,1,4,1],[3,2,4,2],[3,3,4,3],[3,4,3,7]]}
[null,"GRILLE d'EVALUATION des RISQUES",null,null,null,null,null,null,null,null,null,null,null,"ZONE JAUNE A REMLIR"]
[null,"LIEU","BATIMENT C",null,null,null,null,null,null,null,null,"Rédacteurs / Classes : "," "]
[null,"Poste / Machine ","C09 - DECMA PARK",null,"Nbre de personnes exposées:",null,null,null,null,null,null,"Mesures\nDe\nprévention\nexistantes\n","Mesures\nDe\nprévention\nà proposer\n"]
["Dangers\n(la cause)","Situations\ndangereuses (cause + operateur)","Evenement \nDangereux","Dommage                                   \n(lésion, atteinte à\nla santé)\n","Estimation\ndu risque\n",null,null,null,null,null,"Evalution du risque"]
[null,null,null,null,"GRAVITE","Fréquence / Durée d'exposition au danger","Probabilité d'apparition d'un évenement dangereux","Niveau de Probabilité d'apparition du dommage",null,null,"NIVEAUX PRIORITÉ"]
[null,null,null,null,null,null,null,{"$f":"IF(AND(F6=1,G6=1),1,IF(AND(F6=1,G6=2),2,IF(AND(F6=2,G6=1),3,IF(AND(F6=2,G6=2),4,\"\"\"\"))))","v":"\""},{"$f":"IF(AND(E6=4,H6=4),1,IF(AND(E6=4,H6=3),1,IF(AND(E6=3,H6=4),1,IF(AND(E6=3,H6=3),1,\"\"))))","v":""},{"$f":"IF(AND(E6=4,H6=2),2,IF(AND(E6=4,H6=1),2,IF(AND(E6=3,H6=2),2,IF(AND(E6=2,H6=2),2,IF(AND(E6=2,H6=3),2,IF(AND(E6=2,H6=4),2,\"\"))))))","v":""},{"$f":"IF(E6=\"\",\"\",IF(I6=1,1,IF(J6=2,2,3)))","v":""}," "," "]
[null,null,null,null,null,null,null,{"$f":"IF(AND(F7=1,G7=1),1,IF(AND(F7=1,G7=2),2,IF(AND(F7=2,G7=1),3,IF(AND(F7=2,G7=2),4,\"\"\"\"))))","v":"\""},"","",""]
[null,null,null,null,null,null,null,"\"","","",""]
[null,null,null,null,null,null,null,"\"","","",""]
[null,null,null,null,null,null,null,"\"","","",""," "," "," "]
[null,null,null,null,null,null,null,"\"","","",""]
[null,null,null,null,null,null,null,"\"","","",""]
[null,null,null,null,null,null,null,"\"","","",""]
[null,null,null,null,null,null,null,"\"","","",""]
[null,null,null,null,null,null,null,"\"","","",""]
[null,null,null,null,null,null,null,"\"","","",""]
[null,null,null,null,null,null,null,"\"","","",""]
[null,null,null,null,null,null,null,"\"","","",""]
[null,null,null,null,null,null,null,"\"","","",""]
[null,null,null,null,null,null,null,"\"","","",""]
[null,null,null,null,null,null,null,"\"","","",""]
[null,null,null,null,null,null,null,"\"","","",""]
[null,null,null,null,null,null,null,"\"","","",""]
[null,null,null,null,null,null,null,"\"","","",""]
[null,null,null,null,null,null,null,"\"","","",""]
[null,null,null,null,null,null,null,"\"","","",""]
[null,null,null,null,null,null,null,"\"","","",""]
[null,null,null,null,null,null,null,"\"","","",""]
[null,null,null,null,null,null,null,"\"","","",""]
[null,null,null,null,null,null,null,"\"","","",""]
[null,null,null,null,null,null,null,"\"","","",""]
[null,null,null,null,null,null,null,"\"","","",""]
[null,null,null,null,null,null,null,"\"","","",""]
[null,null,null,null,null,null,null,"\"","","",""]
[null,null,null,null,null,null,null,"\"","","",""]
[null,null,null,null,null,null,null,"\"","","",""]
[null,null,null,null,null,null,null,"\"","","",""]
[null,null,null,null,null,null,null,"\"","","",""]
[null,null,null,null,null,null,null,"\"","","",""]
[null,null,null,null,null,null,null,"\"","","",""]
[null,null,null,null,null,null,null,"\"","","",""]
[null,null,null,null,null,null,null,"\"","","",""]
[null,null,null,null,null,null,null,"\"","","",""]

{"sheet":"IMP C09","index":18,"n_rows":11,"n_cols":16,"rows_kept":11,"cut":false,"hidden":false,"merged":[[0,1,0,10],[1,2,1,8],[2,2,2,3],[2,4,2,7],[2,9,4,9],[2,10,4,10],[3,0,4,0],[3,1,4,1],[3,2,4,2],[3,3,4,3],[3,4,3,7]]}
[null,"GRILLE d'EVALUATION des RISQUES"]
[null,"LIEU","BATIMENT C",null,null,null,null,null,null,"Rédacteurs / Classes : ",{"$f":"'UT C09'!M2","v":" "}]
[null,"Poste / Machine ","C09- DECMA PARK",null,"Nbre de personnes exposées:",null,null,null,{"$f":"'UT C09'!K3","v":0},"Mesures\nDe\nprévention\nexistantes\n","Mesures\nDe\nprévention\nà proposer\n"]
["Dangers\n(la cause)","Situations\ndangereuses (cause + operateur)","Evenement \nDangereux","Dommage                                   \n(lésion, atteinte à\nla santé)\n","Estimation\ndu risque\n",null,null,null,"Evalution du risque"]
[null,null,null,null,"GRAVITE","Fréquence / Durée d'exposition au danger","Probabilité d'apparition d'un évenement dangereux","Niveau de Probabilité d'apparition du dommage","NIVEAUX PRIORITÉ"]
[{"$f":"'UT C09'!A19","v":0},{"$f":"'UT C09'!B19","v":0},{"$f":"'UT C09'!C19","v":0},{"$f":"'UT C09'!D19","v":0},{"$f":"IF(L6=1,\"Faible\",IF(L6=2,\"Moyen\",IF(L6=3,\"Grave\",IF(L6=4,\"Très Grave\",\" \"))))","v":" "},{"$f":"IF(M6=1,\"Rare\",IF(M6=2,\"Fréquent\",\" \"))","v":" "},{"$f":"IF(N6=1,\"Faible\",IF(N6=2,\"Elevée\",\" \"))","v":" "},{"$f":"IF(O6=1,\"Très improbable\",IF(O6=2,\"Improbable\",IF(O6=3,\"Probable\",IF(O6=4,\"Très Probable\",\" \"))))","v":" "},{"$f":"P6","v":""},{"$f":"'UT C09'!L19","v":0},{"$f":"'UT C09'!M19","v":0},{"$f":"'UT C09'!E19","v":0},{"$f":"'UT C09'!F19","v":0},{"$f":"'UT C09'!G19","v":0},{"$f":"'UT C09'!H19","v":"\""},{"$f":"'UT C09'!K19","v":""}]
[{"$f":"'UT C09'!A20","v":0},{"$f":"'UT C09'!B20","v":0},{"$f":"'UT C09'!C20","v":0},{"$f":"'UT C09'!D20","v":0}," "," "," "," ","",{"$f":"'UT C09'!L20","v":0},{"$f":"'UT C09'!M20","v":0},{"$f":"'UT C09'!E20","v":0},{"$f":"'UT C09'!F20","v":0},{"$f":"'UT C09'!G20","v":0},{"$f":"'UT C09'!H20","v":"\""},{"$f":"'UT C09'!K20","v":""}]
[{"$f":"'UT C09'!A21","v":0},{"$f":"'UT C09'!B21","v":0},{"$f":"'UT C09'!C21","v":0},{"$f":"'UT C09'!D21","v":0}," "," "," "," ","",{"$f":"'UT C09'!L21","v":0},{"$f":"'UT C09'!M21","v":0},{"$f":"'UT C09'!E21","v":0},{"$f":"'UT C09'!F21","v":0},{"$f":"'UT C09'!G21","v":0},{"$f":"'UT C09'!H21","v":"\""},{"$f":"'UT C09'!K21","v":""}]
[{"$f":"'UT C09'!A22","v":0},{"$f":"'UT C09'!B22","v":0},{"$f":"'UT C09'!C22","v":0},{"$f":"'UT C09'!D22","v":0}," "," "," "," ","",{"$f":"'UT C09'!L22","v":0},{"$f":"'UT C09'!M22","v":0},{"$f":"'UT C09'!E22","v":0},{"$f":"'UT C09'!F22","v":0},{"$f":"'UT C09'!G22","v":0},{"$f":"'UT C09'!H22","v":"\""},{"$f":"'UT C09'!K22","v":""}]
[{"$f":"'UT C09'!A23","v":0},{"$f":"'UT C09'!B23","v":0},{"$f":"'UT C09'!C23","v":0},{"$f":"'UT C09'!D23","v":0}," "," "," "," ","",{"$f":"'UT C09'!L23","v":0},{"$f":"'UT C09'!M23","v":0},{"$f":"'UT C09'!E23","v":0},{"$f":"'UT C09'!F23","v":0},{"$f":"'UT C09'!G23","v":0},{"$f":"'UT C09'!H23","v":"\""},{"$f":"'UT C09'!K23","v":""}]
[{"$f":"'UT C09'!A24","v":0},{"$f":"'UT C09'!B24","v":0},{"$f":"'UT C09'!C24","v":0},{"$f":"'UT C09'!D24","v":0}," "," "," "," ","",{"$f":"'UT C09'!L24","v":0},{"$f":"'UT C09'!M24","v":0},{"$f":"'UT C09'!E24","v":0},{"$f":"'UT C09'!F24","v":0},{"$f":"'UT C09'!G24","v":0},{"$f":"'UT C09'!H24","v":"\""},{"$f":"'UT C09'!K24","v":""}]

{"sheet":"UT C10","index":19,"n_rows":43,"n_cols":14,"rows_kept":43,"cut":false,"hidden":false,"merged":[[0,13,0,17],[0,1,0,12],[1,2,1,10],[2,2,2,3],[2,4,2,7],[2,11,4,11],[2,12,4,12],[3,0,4,0],[3,1,4,1],[3,2,4,2],[3,3,4,3],[3,4,3,7]]}
[null,"GRILLE d'EVALUATION des RISQUES",null,null,null,null,null,null,null,null,null,null,null,"ZONE JAUNE A REMLIR"]
[null,"LIEU","BATIMENT C",null,null,null,null,null,null,null,null,"Rédacteurs / Classes : "]
[null,"Poste / Machine ","C10 - DECMA CD",null,"Nbre de personnes exposées:",null,null,null,null,null,null,"Mesures\nDe\nprévention\nexistantes\n","Mesures\nDe\nprévention\nà proposer\n"]
["Dangers\n(la cause)","Situations\ndangereuses (cause + operateur)","Evenement \nDangereux","Dommage                                   \n(lésion, atteinte à\nla santé)\n","Estimation\ndu risque\n",null,null,null,null,null,"Evalution du risque"]
[null,null,null,null,"GRAVITE","Fréquence / Durée d'exposition au danger","Probabilité d'apparition d'un évenement dangereux","Niveau de Probabilité d'apparition du dommage",null,null,"NIVEAUX PRIORITÉ"]
[null,null,null,null,null,null,null,{"$f":"IF(AND(F6=1,G6=1),1,IF(AND(F6=1,G6=2),2,IF(AND(F6=2,G6=1),3,IF(AND(F6=2,G6=2),4,\"\"\"\"))))","v":"\""},{"$f":"IF(AND(E6=4,H6=4),1,IF(AND(E6=4,H6=3),1,IF(AND(E6=3,H6=4),1,IF(AND(E6=3,H6=3),1,\"\"))))","v":""},{"$f":"IF(AND(E6=4,H6=2),2,IF(AND(E6=4,H6=1),2,IF(AND(E6=3,H6=2),2,IF(AND(E6=2,H6=2),2,IF(AND(E6=2,H6=3),2,IF(AND(E6=2,H6=4),2,\"\"))))))","v":""},{"$f":"IF(E6=\"\",\"\",IF(I6=1,1,IF(J6=2,2,3)))","v":""}]
[null,null,null,null,null,null,null,{"$f":"IF(AND(F7=1,G7=1),1,IF(AND(F7=1,G7=2),2,IF(AND(F7=2,G7=1),3,IF(AND(F7=2,G7=2),4,\"\"\"\"))))","v":"\""},"","",""]
[null,null,null,null,null,null,null,"\"","","",""]
[null,null,null,null,null,null,null,"\"","","",""]
[null,null,null,null,null,null,null,"\"","","","",null,null," "]
[null,null,null,null,null,null,null,"\"","","",""]
[null,null,null,null,null,null,null,"\"","","",""]
[null,null,null,null,null,null,null,"\"","","",""]
[null,null,null,null,null,null,null,"\"","","",""]
[null,null,null,null,null,null,null,"\"","","",""]
[null,null,null,null,null,null,null,"\"","","",""]
[null,null,null,null,null,null,null,"\"","","",""]
[null,null,null,null,null,null,null,"\"","","",""]
[null,null,null,null,null,null,null,"\"","","",""]
[null,null,null,null,null,null,null,"\"","","",""]
[null,null,null,null,null,null,null,"\"","","",""]
[null,null,null,null,null,null,null,"\"","","",""]
[null,null,null,null,null,null,null,"\"","","",""]
[null,null,null,null,null,null,null,"\"","","",""]
[null,null,null,null,null,null,null,"\"","","",""]
[null,null,null,null,null,null,null,"\"","","",""]
[null,null,null,null,null,null,null,"\"","","",""]
[null,null,null,null,null,null,null,"\"","","",""]
[null,null,null,null,null,null,null,"\"","","",""]
[null,null,null,null,null,null,null,"\"","","",""]
[null,null,null,null,null,null,null,"\"","","",""]
[null,null,null,null,null,null,null,"\"","","",""]
[null,null,null,null,null,null,null,"\"","","",""]
[null,null,null,null,null,null,null,"\"","","",""]
[null,null,null,null,null,null,null,"\"","","",""]
[null,null,null,null,null,null,null,"\"","","",""]
[null,null,null,null,null,null,null,"\"","","",""]
[null,null,null,null,null,null,null,"\"","","",""]
[null,null,null,null,null,null,null,"\"","","",""]
[null,null,null,null,null,null,null,"\"","","",""]
[null,null,null,null,null,null,null,"\"","","",""]
[null,null,null,null,null,null,null,"\"","","",""]
[null,null,null,null,null,null,null,"\"","","",""]

{"sheet":"IMP C10","index":20,"n_rows":11,"n_cols":16,"rows_kept":11,"cut":false,"hidden":false,"merged":[[0,1,0,10],[1,2,1,8],[2,2,2,3],[2,4,2,7],[2,9,4,9],[2,10,4,10],[3,0,4,0],[3,1,4,1],[3,2,4,2],[3,3,4,3],[3,4,3,7]]}
[null,"GRILLE d'EVALUATION des RISQUES"]
[null,"LIEU","BATIMENT C",null,null,null,null,null,null,"Rédacteurs / Classes : ",{"$f":"'UT C07'!M2","v":" "}]
[null,"Poste / Machine ","C10- DECMA CD",null,"Nbre de personnes exposées:",null,null,null,{"$f":"'UT C07'!K3","v":" "},"Mesures\nDe\nprévention\nexistantes\n","Mesures\nDe\nprévention\nà proposer\n"]
["Dangers\n(la cause)","Situations\ndangereuses (cause + operateur)","Evenement \nDangereux","Dommage                                   \n(lésion, atteinte à\nla santé)\n","Estimation\ndu risque\n",null,null,null,"Evalution du risque"]
[null,null,null,null,"GRAVITE","Fréquence / Durée d'exposition au danger","Probabilité d'apparition d'un évenement dangereux","Niveau de Probabilité d'apparition du dommage","NIVEAUX PRIORITÉ"]
[{"$f":"'UT C10'!A6","v":0},{"$f":"'UT C10'!B6","v":0},{"$f":"'UT C10'!C6","v":0},{"$f":"'UT C10'!D6","v":0},{"$f":"IF(L6=1,\"Faible\",IF(L6=2,\"Moyen\",IF(L6=3,\"Grave\",IF(L6=4,\"Très Grave\",\" \"))))","v":" "},{"$f":"IF(M6=1,\"Rare\",IF(M6=2,\"Fréquent\",\" \"))","v":" "},{"$f":"IF(N6=1,\"Faible\",IF(N6=2,\"Elevée\",\" \"))","v":" "},{"$f":"IF(O6=1,\"Très improbable\",IF(O6=2,\"Improbable\",IF(O6=3,\"Probable\",IF(O6=4,\"Très Probable\",\" \"))))","v":" "},{"$f":"P6","v":""},{"$f":"'UT C10'!L6","v":0},{"$f":"'UT C10'!M6","v":0},{"$f":"'UT C10'!E6","v":0},{"$f":"'UT C10'!F6","v":0},{"$f":"'UT C10'!G6","v":0},{"$f":"'UT C10'!H6","v":"\""},{"$f":"'UT C10'!K6","v":""}]
[{"$f":"'UT C10'!A7","v":0},{"$f":"'UT C10'!B7","v":0},{"$f":"'UT C10'!C7","v":0},{"$f":"'UT C10'!D7","v":0}," "," "," "," ","",{"$f":"'UT C10'!L7","v":0},{"$f":"'UT C10'!M7","v":0},{"$f":"'UT C10'!E7","v":0},{"$f":"'UT C10'!F7","v":0},{"$f":"'UT C10'!G7","v":0},{"$f":"'UT C10'!H7","v":"\""},{"$f":"'UT C10'!K7","v":""}]
[{"$f":"'UT C10'!A8","v":0},{"$f":"'UT C10'!B8","v":0},{"$f":"'UT C10'!C8","v":0},{"$f":"'UT C10'!D8","v":0}," "," "," "," ","",{"$f":"'UT C10'!L8","v":0},{"$f":"'UT C10'!M8","v":0},{"$f":"'UT C10'!E8","v":0},{"$f":"'UT C10'!F8","v":0},{"$f":"'UT C10'!G8","v":0},{"$f":"'UT C10'!H8","v":"\""},{"$f":"'UT C10'!K8","v":""}]
[{"$f":"'UT C10'!A9","v":0},{"$f":"'UT C10'!B9","v":0},{"$f":"'UT C10'!C9","v":0},{"$f":"'UT C10'!D9","v":0}," "," "," "," ","",{"$f":"'UT C10'!L9","v":0},{"$f":"'UT C10'!M9","v":0},{"$f":"'UT C10'!E9","v":0},{"$f":"'UT C10'!F9","v":0},{"$f":"'UT C10'!G9","v":0},{"$f":"'UT C10'!H9","v":"\""},{"$f":"'UT C10'!K9","v":""}]
[{"$f":"'UT C10'!A10","v":0},{"$f":"'UT C10'!B10","v":0},{"$f":"'UT C10'!C10","v":0},{"$f":"'UT C10'!D10","v":0}," "," "," "," ","",{"$f":"'UT C10'!L10","v":0},{"$f":"'UT C10'!M10","v":0},{"$f":"'UT C10'!E10","v":0},{"$f":"'UT C10'!F10","v":0},{"$f":"'UT C10'!G10","v":0},{"$f":"'UT C10'!H10","v":"\""},{"$f":"'UT C10'!K10","v":""}]
[{"$f":"'UT C10'!A11","v":0},{"$f":"'UT C10'!B11","v":0},{"$f":"'UT C10'!C11","v":0},{"$f":"'UT C10'!D11","v":0}," "," "," "," ","",{"$f":"'UT C10'!L11","v":0},{"$f":"'UT C10'!M11","v":0},{"$f":"'UT C10'!E11","v":0},{"$f":"'UT C10'!F11","v":0},{"$f":"'UT C10'!G11","v":0},{"$f":"'UT C10'!H11","v":"\""},{"$f":"'UT C10'!K11","v":""}]

{"sheet":"UT C11","index":21,"n_rows":43,"n_cols":14,"rows_kept":43,"cut":false,"hidden":false,"merged":[[0,13,0,17],[0,1,0,12],[1,2,1,10],[2,2,2,3],[2,4,2,7],[2,11,4,11],[2,12,4,12],[3,0,4,0],[3,1,4,1],[3,2,4,2],[3,3,4,3],[3,4,3,7]]}
[null,"GRILLE d'EVALUATION des RISQUES",null,null,null,null,null,null,null,null,null,null,null,"ZONE JAUNE A REMLIR"]
[null,"LIEU","BATIMENT C",null,null,null,null,null,null,null,null,"Rédacteurs / Classes : "," "]
[null,"Poste / Machine ","C11- BROYEUR",null,"Nbre de personnes exposées:",null,null,null,null,null," ","Mesures\nDe\nprévention\nexistantes\n","Mesures\nDe\nprévention\nà proposer\n"]
["Dangers\n(la cause)","Situations\ndangereuses (cause + operateur)","Evenement \nDangereux","Dommage                                   \n(lésion, atteinte à\nla santé)\n","Estimation\ndu risque\n",null,null,null,null,null,"Evalution du risque"]
[null,null,null,null,"GRAVITE","Fréquence / Durée d'exposition au danger","Probabilité d'apparition d'un évenement dangereux","Niveau de Probabilité d'apparition du dommage",null,null,"NIVEAUX PRIORITÉ"]
[null,null,null,null,null,null,null,{"$f":"IF(AND(F6=1,G6=1),1,IF(AND(F6=1,G6=2),2,IF(AND(F6=2,G6=1),3,IF(AND(F6=2,G6=2),4,\"\"\"\"))))","v":"\""},{"$f":"IF(AND(E6=4,H6=4),1,IF(AND(E6=4,H6=3),1,IF(AND(E6=3,H6=4),1,IF(AND(E6=3,H6=3),1,\"\"))))","v":""},{"$f":"IF(AND(E6=4,H6=2),2,IF(AND(E6=4,H6=1),2,IF(AND(E6=3,H6=2),2,IF(AND(E6=2,H6=2),2,IF(AND(E6=2,H6=3),2,IF(AND(E6=2,H6=4),2,\"\"))))))","v":""},{"$f":"IF(E6=\"\",\"\",IF(I6=1,1,IF(J6=2,2,3)))","v":""}," "," "]
[null,null,null,null,null,null,null,{"$f":"IF(AND(F7=1,G7=1),1,IF(AND(F7=1,G7=2),2,IF(AND(F7=2,G7=1),3,IF(AND(F7=2,G7=2),4,\"\"\"\"))))","v":"\""},"","",""]
[null,null,null,null,null,null,null,"\"","","",""]
[null,null,null,null,null,null,null,"\"","","",""]
[null,null,null,null,null,null,null,"\"","","","",null,null," "]
[null,null,null,null,null,null,null,"\"","","",""]
[null,null,null,null,null,null,null,"\"","","",""]
[null,null,null,null,null,null,null,"\"","","",""]
[null,null,null,null,null,null,null,"\"","","",""]
[null,null,null,null,null,null,null,"\"","","",""]
[null,null,null,null,null,null,null,"\"","","",""]
[null,null,null,null,null,null,null,"\"","","",""]
[null,null,null,null,null,null,null,"\"","","",""]
[null,null,null,null,null,null,null,"\"","","",""]
[null,null,null,null,null,null,null,"\"","","",""]
[null,null,null,null,null,null,null,"\"","","",""]
[null,null,null,null,null,null,null,"\"","","",""]
[null,null,null,null,null,null,null,"\"","","",""]
[null,null,null,null,null,null,null,"\"","","",""]
[null,null,null,null,null,null,null,"\"","","",""]
[null,null,null,null,null,null,null,"\"","","",""]
[null,null,null,null,null,null,null,"\"","","",""]
[null,null,null,null,null,null,null,"\"","","",""]
[null,null,null,null,null,null,null,"\"","","",""]
[null,null,null,null,null,null,null,"\"","","",""]
[null,null,null,null,null,null,null,"\"","","",""]
[null,null,null,null,null,null,null,"\"","","",""]
[null,null,null,null,null,null,null,"\"","","",""]
[null,null,null,null,null,null,null,"\"","","",""]
[null,null,null,null,null,null,null,"\"","","",""]
[null,null,null,null,null,null,null,"\"","","",""]
[null,null,null,null,null,null,null,"\"","","",""]
[null,null,null,null,null,null,null,"\"","","",""]
[null,null,null,null,null,null,null,"\"","","",""]
[null,null,null,null,null,null,null,"\"","","",""]
[null,null,null,null,null,null,null,"\"","","",""]
[null,null,null,null,null,null,null,"\"","","",""]
[null,null,null,null,null,null,null,"\"","","",""]

{"sheet":"IMP C11","index":22,"n_rows":11,"n_cols":16,"rows_kept":11,"cut":false,"hidden":false,"merged":[[0,1,0,10],[1,2,1,8],[2,2,2,3],[2,4,2,7],[2,9,4,9],[2,10,4,10],[3,0,4,0],[3,1,4,1],[3,2,4,2],[3,3,4,3],[3,4,3,7]]}
[null,"GRILLE d'EVALUATION des RISQUES"]
[null,"LIEU","BATIMENT C",null,null,null,null,null,null,"Rédacteurs / Classes : ",{"$f":"'UT C11'!M2","v":" "}]
[null,"Poste / Machine ","C10- DECMA CD",null,"Nbre de personnes exposées:",null,null,null,{"$f":"'UT C11'!K3","v":" "},"Mesures\nDe\nprévention\nexistantes\n","Mesures\nDe\nprévention\nà proposer\n"]
["Dangers\n(la cause)","Situations\ndangereuses (cause + operateur)","Evenement \nDangereux","Dommage                                   \n(lésion, atteinte à\nla santé)\n","Estimation\ndu risque\n",null,null,null,"Evalution du risque"]
[null,null,null,null,"GRAVITE","Fréquence / Durée d'exposition au danger","Probabilité d'apparition d'un évenement dangereux","Niveau de Probabilité d'apparition du dommage","NIVEAUX PRIORITÉ"]
[{"$f":"'UT C11'!A6","v":0},{"$f":"'UT C11'!B6","v":0},{"$f":"'UT C11'!C6","v":0},{"$f":"'UT C11'!D6","v":0},{"$f":"IF(L6=1,\"Faible\",IF(L6=2,\"Moyen\",IF(L6=3,\"Grave\",IF(L6=4,\"Très Grave\",\" \"))))","v":" "},{"$f":"IF(M6=1,\"Rare\",IF(M6=2,\"Fréquent\",\" \"))","v":" "},{"$f":"IF(N6=1,\"Faible\",IF(N6=2,\"Elevée\",\" \"))","v":" "},{"$f":"IF(O6=1,\"Très improbable\",IF(O6=2,\"Improbable\",IF(O6=3,\"Probable\",IF(O6=4,\"Très Probable\",\" \"))))","v":" "},{"$f":"P6","v":""},{"$f":"'UT C11'!L6","v":" "},{"$f":"'UT C11'!M6","v":" "},{"$f":"'UT C11'!E6","v":0},{"$f":"'UT C11'!F6","v":0},{"$f":"'UT C11'!G6","v":0},{"$f":"'UT C11'!H6","v":"\""},{"$f":"'UT C11'!K6","v":""}]
[{"$f":"'UT C11'!A7","v":0},{"$f":"'UT C11'!B7","v":0},{"$f":"'UT C11'!C7","v":0},{"$f":"'UT C11'!D7","v":0}," "," "," "," ","",{"$f":"'UT C11'!L7","v":0},{"$f":"'UT C11'!M7","v":0},{"$f":"'UT C11'!E7","v":0},{"$f":"'UT C11'!F7","v":0},{"$f":"'UT C11'!G7","v":0},{"$f":"'UT C11'!H7","v":"\""},{"$f":"'UT C11'!I7","v":""}]
[{"$f":"'UT C11'!A8","v":0},{"$f":"'UT C11'!B8","v":0},{"$f":"'UT C11'!C8","v":0},{"$f":"'UT C11'!D8","v":0}," "," "," "," ","",{"$f":"'UT C11'!L8","v":0},{"$f":"'UT C11'!M8","v":0},{"$f":"'UT C11'!E8","v":0},{"$f":"'UT C11'!F8","v":0},{"$f":"'UT C11'!G8","v":0},{"$f":"'UT C11'!H8","v":"\""},{"$f":"'UT C11'!I8","v":""}]
[{"$f":"'UT C11'!A9","v":0},{"$f":"'UT C11'!B9","v":0},{"$f":"'UT C11'!C9","v":0},{"$f":"'UT C11'!D9","v":0}," "," "," "," ","",{"$f":"'UT C11'!L9","v":0},{"$f":"'UT C11'!M9","v":0},{"$f":"'UT C11'!E9","v":0},{"$f":"'UT C11'!F9","v":0},{"$f":"'UT C11'!G9","v":0},{"$f":"'UT C11'!H9","v":"\""},{"$f":"'UT C11'!I9","v":""}]
[{"$f":"'UT C11'!A10","v":0},{"$f":"'UT C11'!B10","v":0},{"$f":"'UT C11'!C10","v":0},{"$f":"'UT C11'!D10","v":0}," "," "," "," ","",{"$f":"'UT C11'!L10","v":0},{"$f":"'UT C11'!M10","v":0},{"$f":"'UT C11'!E10","v":0},{"$f":"'UT C11'!F10","v":0},{"$f":"'UT C11'!G10","v":0},{"$f":"'UT C11'!H10","v":"\""},{"$f":"'UT C11'!I10","v":""}]
[{"$f":"'UT C11'!A11","v":0},{"$f":"'UT C11'!B11","v":0},{"$f":"'UT C11'!C11","v":0},{"$f":"'UT C11'!D11","v":0}," "," "," "," ","",{"$f":"'UT C11'!L11","v":0},{"$f":"'UT C11'!M11","v":0},{"$f":"'UT C11'!E11","v":0},{"$f":"'UT C11'!F11","v":0},{"$f":"'UT C11'!G11","v":0},{"$f":"'UT C11'!H11","v":"\""},{"$f":"'UT C11'!I11","v":""}]

{"sheet":"Grille","index":23,"n_rows":24,"n_cols":8,"rows_kept":24,"cut":false,"hidden":false,"merged":[[23,1,23,7],[17,6,17,7],[19,4,19,5],[19,6,19,7],[20,2,20,3],[6,1,9,1],[13,1,21,1],[13,2,13,3],[13,4,13,5],[17,4,17,5],[21,4,21,5],[12,3,12,7],[10,7,11,7],[10,3,11,3],[10,4,11,4],[21,6,21,7],[15,6,15,7],[16,2,16,3],[13,6,13,7],[15,4,15,5],[1,2,1,7],[2,2,2,7],[3,2,3,7],[5,3,5,6],[10,5,11,5],[10,6,11,6]]}
[]
[null,"Il faut:","A- estimer la gravité des dommages potentiel                                                                                                                  [ colonne D ]"]
[null,null,"B- estimer la probalité d'apparition du dommage                                                                                                              [ colonnes E et F ]"]
[null,null,"C- constater le niveau des priorités de la plus urgente (1) la moins urgente (3)                                                        [ colonne J ]"]
[]
[null,null,null,"C- NIVEAUX de PRIORITÉ\n( Détermination automatique résultant des entrées [ A ] et [ B ] )"]
[null,"A- Estimation de la gravité des dommages potentiels","4-Très grave",2,2,1,1,"AT ou MP mortel"]
[null,null,"3- Grave",3,2,1,1,"AT ou MP avec Incapacité Permanente Partielle"]
[null,null,"2- Moyenne",3,2,2,2,"AT ou MP avec Arrêt de Travail"]
[null,null,"1- Faible",3,3,3,3,"AT ou MP sans arrêt de travail"]
[null,null,null,"Très Improbable\n\n1","Improbable\n\n2","Probable\n\n3","Très\nProbable\n4","AT:Accident Travail / MP Maladie Professionnelle"]
[]
[null,null,null,"B- Niveau de probalité d'apparition du dommage"]
[null,"B- Estimation\n\nde la\n\nprobalité\n\nd'apparition\n\n du dommage\n","B1- Fréquence et/ou Durée d'exposition au phénomène dangereux\n[ colonne  E ]",null,"B2- Probalité d'apparition d'un événement dangereux\n\n[ colonne  F ]",null,"  \n[ Détermination automatique résultant des entrées [B1] et (B2) ]\n\n[ colonne  G ]"]
[]
[null,null,null,null,"1: Faible",null,"1;1=> 1: Très Improbable"]
[null,null,"1=Rare et/ou Courte durée "]
[null,null,null,null,"2: Elevée",null,"1;2=> 2: Improbable"]
[]
[null,null,null,null,"1: Faible",null,"2;1=> 3: Probable"]
[null,null,"2=Fréquent et/ou Longue durée"]
[null,null,null,null,"2: Elevée",null,"2;2=>: 4 Très Probable"]
[]
[null,"# NOTA:# Pour aller à la ligne dans une cellule texte, il suffit d'utiliser, ensembles, les 2 touches :  [  Alt  ] + [ Entrée ]\n                  #  Les lignes (1) à (4) de la feuille (  UT  ) ont été figées de sorte à rester toujours visibles lors de l'utilisation du tableau\n                        # Les cellules ayant des points quadrillés en fond ne sont pas accessibles pour conserver le contenu, les formules\n                             # Toujours faire un \"Aperçu avant impression\" AVANT d'imprimer"]

{"sheet":"Tableau_Grille","index":24,"n_rows":19,"n_cols":6,"rows_kept":19,"cut":false,"hidden":false,"merged":[[1,2,1,4],[1,5,2,5]]}
[]
[null,null,"ESTIMATION d'APPARITION du DOMMAGE",null,null,"PRIORITÉ"]
[null,"GRAVITÉ","Fréquence / Durée","Probabilité apparition événement dangereux","PROBABILITÉ d'apparition du DOMMAGE"]
[null,1,1,1,1,3]
[null,1,1,2,2,3]
[null,1,2,1,3,3]
[null,1,2,2,4,3]
[null,2,1,1,1,3]
[null,2,1,2,2,2]
[null,2,2,1,3,2]
[null,2,2,2,4,2]
[null,3,1,1,1,3]
[null,3,1,2,2,2]
[null,3,2,1,3,1]
[null,3,2,2,4,1]
[null,4,1,1,1,2]
[null,4,1,2,2,2]
[null,4,2,1,3,1]
[null,4,2,2,4,1]

{"sheet":"Rapport sur la compatibilité","index":25,"n_rows":21,"n_cols":6,"rows_kept":21,"cut":false,"hidden":false,"merged":[]}
[null,"Rapport sur la compatibilité concernant grille vierge.xls"]
[null,"Exécuté le 27/12/2012 19:07"]
[]
[null,"Les fonctionnalités suivantes de ce classeur ne sont pas prises en charge dans les versions antérieures d’Excel. Ces fonctionnalités seront peut-être perdues ou dégradées si vous ouvrez le classeur dans une version antérieure du programme ou si vous l’enregistrez dans un format de fichier antérieur."]
[]
[null,"Perte significative de fonctionnalité",null,null,"Nb d'occurrences","Version"]
[]
[null,"Tout effet appliqué à ce graphique va être supprimé. Tout texte en dehors des limites du graphique va être tronqué.",null,null,1]
[null,null,null,null,"UT C10'!A1:M72","Excel 97-2003"]
[]
[null,"Certaines cellules ont plus de formats conditionnels que ce qui est pris en charge par le format de fichier sélectionné. Seules les trois premières conditions seront affichées dans les versions antérieures d'Excel.",null,null,4]
[null,null,null,null,"UT C01'!K6:K43","Excel 97-2003"]
[null,null,null,null,"IMP C01'!I6:I11","Excel 97-2003"]
[]
[null,"Certaines cellules ont des plages de mise en forme conditionnelle qui se chevauchent. Les versions antérieures d'Excel n'évalueront pas toutes les règles de mise en forme conditionnelle sur les cellules qui se chevauchent. Ces cellules auront une mise en forme conditionnelle différente.",null,null,1]
[null,null,null,null,"UT C01'!K6","Excel 97-2003"]
[]
[]
[null,"Perte mineure de fidélité"]
[]
[null,"Certaines cellules ou certains styles de ce classeur contiennent une mise en forme qui n'est pas prise en charge par le format de fichier sélectionné. Ces formats seront convertis au format le plus proche disponible.",null,null,8,"Excel 97-2003"]